Workbook

Sheet ドル
B2: 開始 | C2: 37347 | E2: 月々積立額 | F2: 10000 | H2: 終了時評価 | I2: ='為替（データ）'!Q5 -> 133.95
B3: 終了 | C3: 44986 | D3: =DATE(YEAR(C3),MONTH(C3)+1,DAY(C3)) -> 45017 | E3: 積立総額 | F3: =F2*ドル!C4 -> 2510000 | H3: 評価額 | I3: =F4*I2 -> 3205134.1
B4: 期間 | C4: =DATEDIF(C2,C3,"M") -> 251 | E4: 合計購入ドル | F4: ='為替（データ）'!P5 -> 23927.84 | H4: 利回り | I4: =RATE(ドル!C4,-1*ドル!F2,0,I3)*12 -> 0.022599993
B5: ＊「開始」は2002年4月以降で入力して下さい。
B6: ＊「終了」は2023年3月までで入力して下さい。
B7: ＊「開始」「終了」の入力は2010年1月の場合2010/1/1と入力して下さい。
B36: ＊毎月の月中平均のデータを集計しています。
B37: ＊参考データ： | C37: みずほ銀行 ヒストリカルデータ

Sheet 複利
B2: 年利 | C2: 5 | D2: % | G2: 5 | H2: 10 | I2: 15 | J2: 20 | K2: 25 | L2: 30
B3: 毎月積立額 | C3: 10000 | D3: 円 | F3: 元本 | G3: =$C$3*12*G2 -> 600000 | H3: =$C$3*12*H2 -> 1200000 | I3: =$C$3*12*I2 -> 1800000 | J3: =$C$3*12*J2 -> 2400000 | K3: =$C$3*12*K2 -> 3000000 | L3: =$C$3*12*L2 -> 3600000
B4: 年間積立額 | C4: =C3*12 -> 120000 | D4: 円 | F4: 評価 | G4: ='複利（計算）'!F13 -> 680060.83 | H4: ='複利（計算）'!F18 -> 1552822.8 | I4: ='複利（計算）'!F23 -> 2672889.4 | J4: ='複利（計算）'!F28 -> 4110336.7 | K4: ='複利（計算）'!F33 -> 5955097.1 | L4: ='複利（計算）'!F38 -> 8322586.4
F5: 増加率 | G5: =G4/G3 -> 1.1334347 | H5: =H4/H3 -> 1.294019 | I5: =I4/I3 -> 1.4849386 | J5: =J4/J3 -> 1.7126403 | K5: =K4/K3 -> 1.9850324 | L5: =L4/L3 -> 2.3118295
F6: 増減額 | G6: =G4-G3 -> 80060.828 | H6: =H4-H3 -> 352822.79 | I6: =I4-I3 -> 872889.44 | J6: =J4-J3 -> 1710336.7 | K6: =K4-K3 -> 2955097.1 | L6: =L4-L3 -> 4722586.4

Sheet 為替（データ）
B2: 開始 | C2: =ドル!C2 -> 37347 | F2: 月々積立額 | G2: =ドル!F2 -> 10000 | V2: 評価 | W2: =ドル!I2 -> 133.95
B3: 終了 | C3: =TEXT(ドル!C3,"yyyy/mm") -> 2023/03 | F3: 積立額総額 | G3: =ドル!F3 -> 2510000 | V3: 評価額 | W3: =ドル!I3 -> 3205134.1
B4: 期間 | C4: =ドル!C4 -> 251 | F4: 合計口数 | G4: =ドル!F4 -> 23927.84 | V4: 利回り | W4: =ドル!I4 -> 0.022599993
P5: =SUM(P8:P301) -> 23927.84 | Q5: =SUM(Q8:Q301) -> 133.95
N6: =EDATE(C3,1) -> 45017 | P6: =TEXT(ドル!$C$3,"yyy/m") -> 2023/3 | Q6: =TEXT(ドル!$C$3,"yyy/m") -> 2023/3
B7: 日付 | C7: 終値 | D7: 日付変更 | E7: 月々積立 | F7: 購入ドル | G7: 開始 | H7: 終了 | I7: 積立金 | J7: 積立金合計① | K7: 積立金合計② | L7: 購入ドル | M7: 購入ドル合計① | N7: 購入ドル合計② | O7: 計算基準時評価 | P7: 合計購入ドル | Q7: 終了時評価
B8: 37376 | C8: 131.15 | D8: =TEXT(B8,"yyy/m") -> 2002/4 | E8: =G2 -> 10000 | F8: =E8/C8 -> 76.24857 | G8: =TEXT($C$2,"yyyy/mm") -> 2002/04 | H8: =TEXT($N$6,"yyyy/mm") -> 2023/04 | I8: =IF(AND(B8>=ドル!$C$2,B8<=ドル!$D$3),E8,0) -> 10000 | J8: =I8 -> 10000 | K8: =IF(AND(B8>=ドル!$C$2,B8<=ドル!$D$3),J8,NA()) -> 10000 | L8: =IF(AND(B8>=ドル!$C$2,B8<=ドル!$D$3),F8,0) -> 76.24857 | M8: =L8 -> 76.24857 | N8: =IF(AND(B8>=ドル!$C$2,B8<=ドル!$D$3),M8,0) -> 76.24857 | O8: =IF(C8*N8=0,NA(),C8*N8) -> 10000 | P8: =IF(D8=$P$6,N8,"") | Q8: =IF(D8=$Q$6,C8,"")
B9: 37407 | C9: 126.44 | D9: =TEXT(B9,"yyy/m") -> 2002/5 | E9: =E8 -> 10000 | F9: =E9/C9 -> 79.088896 | G9: =TEXT($C$2,"yyyy/mm") -> 2002/04 | H9: =TEXT($N$6,"yyyy/mm") -> 2023/04 | I9: =IF(AND(B9>=ドル!$C$2,B9<=ドル!$D$3),E9,0) -> 10000 | J9: =I8+J8 -> 20000 | K9: =IF(AND(B9>=ドル!$C$2,B9<=ドル!$D$3),J9,NA()) -> 20000 | L9: =IF(AND(B9>=ドル!$C$2,B9<=ドル!$D$3),F9,0) -> 79.088896 | M9: =L9+M8 -> 155.33747 | N9: =IF(AND(B9>=ドル!$C$2,B9<=ドル!$D$3),M9,0) -> 155.33747 | O9: =IF(C9*N9=0,NA(),C9*N9) -> 19640.869 | P9: =IF(D9=$P$6,N9,"") | Q9: =IF(D9=$Q$6,C9,"")
B10: 37435 | C10: 123.53 | D10: =TEXT(B10,"yyy/m") -> 2002/6 | E10: =E9 -> 10000 | F10: =E10/C10 -> 80.951995 | G10: =TEXT($C$2,"yyyy/mm") -> 2002/04 | H10: =TEXT($N$6,"yyyy/mm") -> 2023/04 | I10: =IF(AND(B10>=ドル!$C$2,B10<=ドル!$D$3),E10,0) -> 10000 | J10: =I9+J9 -> 30000 | K10: =IF(AND(B10>=ドル!$C$2,B10<=ドル!$D$3),J10,NA()) -> 30000 | L10: =IF(AND(B10>=ドル!$C$2,B10<=ドル!$D$3),F10,0) -> 80.951995 | M10: =L10+M9 -> 236.28946 | N10: =IF(AND(B10>=ドル!$C$2,B10<=ドル!$D$3),M10,0) -> 236.28946 | O10: =IF(C10*N10=0,NA(),C10*N10) -> 29188.837 | P10: =IF(D10=$P$6,N10,"") | Q10: =IF(D10=$Q$6,C10,"")
B11: 37468 | C11: 118.05 | D11: =TEXT(B11,"yyy/m") -> 2002/7 | E11: =E10 -> 10000 | F11: =E11/C11 -> 84.709869 | G11: =TEXT($C$2,"yyyy/mm") -> 2002/04 | H11: =TEXT($N$6,"yyyy/mm") -> 2023/04 | I11: =IF(AND(B11>=ドル!$C$2,B11<=ドル!$D$3),E11,0) -> 10000 | J11: =I10+J10 -> 40000 | K11: =IF(AND(B11>=ドル!$C$2,B11<=ドル!$D$3),J11,NA()) -> 40000 | L11: =IF(AND(B11>=ドル!$C$2,B11<=ドル!$D$3),F11,0) -> 84.709869 | M11: =L11+M10 -> 320.99933 | N11: =IF(AND(B11>=ドル!$C$2,B11<=ドル!$D$3),M11,0) -> 320.99933 | O11: =IF(C11*N11=0,NA(),C11*N11) -> 37893.971 | P11: =IF(D11=$P$6,N11,"") | Q11: =IF(D11=$Q$6,C11,"")
B12: 37498 | C12: 119.08 | D12: =TEXT(B12,"yyy/m") -> 2002/8 | E12: =E11 -> 10000 | F12: =E12/C12 -> 83.977158 | G12: =TEXT($C$2,"yyyy/mm") -> 2002/04 | H12: =TEXT($N$6,"yyyy/mm") -> 2023/04 | I12: =IF(AND(B12>=ドル!$C$2,B12<=ドル!$D$3),E12,0) -> 10000 | J12: =I11+J11 -> 50000 | K12: =IF(AND(B12>=ドル!$C$2,B12<=ドル!$D$3),J12,NA()) -> 50000 | L12: =IF(AND(B12>=ドル!$C$2,B12<=ドル!$D$3),F12,0) -> 83.977158 | M12: =L12+M11 -> 404.97649 | N12: =IF(AND(B12>=ドル!$C$2,B12<=ドル!$D$3),M12,0) -> 404.97649 | O12: =IF(C12*N12=0,NA(),C12*N12) -> 48224.6 | P12: =IF(D12=$P$6,N12,"") | Q12: =IF(D12=$Q$6,C12,"")
B13: 37529 | C13: 120.58 | D13: =TEXT(B13,"yyy/m") -> 2002/9 | E13: =E12 -> 10000 | F13: =E13/C13 -> 82.932493 | G13: =TEXT($C$2,"yyyy/mm") -> 2002/04 | H13: =TEXT($N$6,"yyyy/mm") -> 2023/04 | I13: =IF(AND(B13>=ドル!$C$2,B13<=ドル!$D$3),E13,0) -> 10000 | J13: =I12+J12 -> 60000 | K13: =IF(AND(B13>=ドル!$C$2,B13<=ドル!$D$3),J13,NA()) -> 60000 | L13: =IF(AND(B13>=ドル!$C$2,B13<=ドル!$D$3),F13,0) -> 82.932493 | M13: =L13+M12 -> 487.90898 | N13: =IF(AND(B13>=ドル!$C$2,B13<=ドル!$D$3),M13,0) -> 487.90898 | O13: =IF(C13*N13=0,NA(),C13*N13) -> 58832.065 | P13: =IF(D13=$P$6,N13,"") | Q13: =IF(D13=$Q$6,C13,"")
B14: 37560 | C14: 123.95 | D14: =TEXT(B14,"yyy/m") -> 2002/10 | E14: =E13 -> 10000 | F14: =E14/C14 -> 80.677693 | G14: =TEXT($C$2,"yyyy/mm") -> 2002/04 | H14: =TEXT($N$6,"yyyy/mm") -> 2023/04 | I14: =IF(AND(B14>=ドル!$C$2,B14<=ドル!$D$3),E14,0) -> 10000 | J14: =I13+J13 -> 70000 | K14: =IF(AND(B14>=ドル!$C$2,B14<=ドル!$D$3),J14,NA()) -> 70000 | L14: =IF(AND(B14>=ドル!$C$2,B14<=ドル!$D$3),F14,0) -> 80.677693 | M14: =L14+M13 -> 568.58667 | N14: =IF(AND(B14>=ドル!$C$2,B14<=ドル!$D$3),M14,0) -> 568.58667 | O14: =IF(C14*N14=0,NA(),C14*N14) -> 70476.318 | P14: =IF(D14=$P$6,N14,"") | Q14: =IF(D14=$Q$6,C14,"")
B15: 37589 | C15: 121.57 | D15: =TEXT(B15,"yyy/m") -> 2002/11 | E15: =E14 -> 10000 | F15: =E15/C15 -> 82.257136 | G15: =TEXT($C$2,"yyyy/mm") -> 2002/04 | H15: =TEXT($N$6,"yyyy/mm") -> 2023/04 | I15: =IF(AND(B15>=ドル!$C$2,B15<=ドル!$D$3),E15,0) -> 10000 | J15: =I14+J14 -> 80000 | K15: =IF(AND(B15>=ドル!$C$2,B15<=ドル!$D$3),J15,NA()) -> 80000 | L15: =IF(AND(B15>=ドル!$C$2,B15<=ドル!$D$3),F15,0) -> 82.257136 | M15: =L15+M14 -> 650.84381 | N15: =IF(AND(B15>=ドル!$C$2,B15<=ドル!$D$3),M15,0) -> 650.84381 | O15: =IF(C15*N15=0,NA(),C15*N15) -> 79123.082 | P15: =IF(D15=$P$6,N15,"") | Q15: =IF(D15=$Q$6,C15,"")
B16: 37620 | C16: 122.22 | D16: =TEXT(B16,"yyy/m") -> 2002/12 | E16: =E15 -> 10000 | F16: =E16/C16 -> 81.819669 | G16: =TEXT($C$2,"yyyy/mm") -> 2002/04 | H16: =TEXT($N$6,"yyyy/mm") -> 2023/04 | I16: =IF(AND(B16>=ドル!$C$2,B16<=ドル!$D$3),E16,0) -> 10000 | J16: =I15+J15 -> 90000 | K16: =IF(AND(B16>=ドル!$C$2,B16<=ドル!$D$3),J16,NA()) -> 90000 | L16: =IF(AND(B16>=ドル!$C$2,B16<=ドル!$D$3),F16,0) -> 81.819669 | M16: =L16+M15 -> 732.66348 | N16: =IF(AND(B16>=ドル!$C$2,B16<=ドル!$D$3),M16,0) -> 732.66348 | O16: =IF(C16*N16=0,NA(),C16*N16) -> 89546.13 | P16: =IF(D16=$P$6,N16,"") | Q16: =IF(D16=$Q$6,C16,"")
B17: 37652 | C17: 118.71 | D17: =TEXT(B17,"yyy/m") -> 2003/1 | E17: =E16 -> 10000 | F17: =E17/C17 -> 84.238902 | G17: =TEXT($C$2,"yyyy/mm") -> 2002/04 | H17: =TEXT($N$6,"yyyy/mm") -> 2023/04 | I17: =IF(AND(B17>=ドル!$C$2,B17<=ドル!$D$3),E17,0) -> 10000 | J17: =I16+J16 -> 100000 | K17: =IF(AND(B17>=ドル!$C$2,B17<=ドル!$D$3),J17,NA()) -> 100000 | L17: =IF(AND(B17>=ドル!$C$2,B17<=ドル!$D$3),F17,0) -> 84.238902 | M17: =L17+M16 -> 816.90238 | N17: =IF(AND(B17>=ドル!$C$2,B17<=ドル!$D$3),M17,0) -> 816.90238 | O17: =IF(C17*N17=0,NA(),C17*N17) -> 96974.482 | P17: =IF(D17=$P$6,N17,"") | Q17: =IF(D17=$Q$6,C17,"")
B18: 37680 | C18: 119.43 | D18: =TEXT(B18,"yyy/m") -> 2003/2 | E18: =E17 -> 10000 | F18: =E18/C18 -> 83.731056 | G18: =TEXT($C$2,"yyyy/mm") -> 2002/04 | H18: =TEXT($N$6,"yyyy/mm") -> 2023/04 | I18: =IF(AND(B18>=ドル!$C$2,B18<=ドル!$D$3),E18,0) -> 10000 | J18: =I17+J17 -> 110000 | K18: =IF(AND(B18>=ドル!$C$2,B18<=ドル!$D$3),J18,NA()) -> 110000 | L18: =IF(AND(B18>=ドル!$C$2,B18<=ドル!$D$3),F18,0) -> 83.731056 | M18: =L18+M17 -> 900.63344 | N18: =IF(AND(B18>=ドル!$C$2,B18<=ドル!$D$3),M18,0) -> 900.63344 | O18: =IF(C18*N18=0,NA(),C18*N18) -> 107562.65 | P18: =IF(D18=$P$6,N18,"") | Q18: =IF(D18=$Q$6,C18,"")
B19: 37711 | C19: 118.66 | D19: =TEXT(B19,"yyy/m") -> 2003/3 | E19: =E18 -> 10000 | F19: =E19/C19 -> 84.274397 | G19: =TEXT($C$2,"yyyy/mm") -> 2002/04 | H19: =TEXT($N$6,"yyyy/mm") -> 2023/04 | I19: =IF(AND(B19>=ドル!$C$2,B19<=ドル!$D$3),E19,0) -> 10000 | J19: =I18+J18 -> 120000 | K19: =IF(AND(B19>=ドル!$C$2,B19<=ドル!$D$3),J19,NA()) -> 120000 | L19: =IF(AND(B19>=ドル!$C$2,B19<=ドル!$D$3),F19,0) -> 84.274397 | M19: =IFERROR(L19+M18,"") -> 984.90783 | N19: =IF(AND(B19>=ドル!$C$2,B19<=ドル!$D$3),M19,0) -> 984.90783 | O19: =IF(C19*N19=0,NA(),C19*N19) -> 116869.16 | P19: =IF(D19=$P$6,N19,"") | Q19: =IF(D19=$Q$6,C19,"")
B20: 37741 | C20: 119.84 | D20: =TEXT(B20,"yyy/m") -> 2003/4 | E20: =E19 -> 10000 | F20: =E20/C20 -> 83.444593 | G20: =TEXT($C$2,"yyyy/mm") -> 2002/04 | H20: =TEXT($N$6,"yyyy/mm") -> 2023/04 | I20: =IF(AND(B20>=ドル!$C$2,B20<=ドル!$D$3),E20,0) -> 10000 | J20: =I19+J19 -> 130000 | K20: =IF(AND(B20>=ドル!$C$2,B20<=ドル!$D$3),J20,NA()) -> 130000 | L20: =IF(AND(B20>=ドル!$C$2,B20<=ドル!$D$3),F20,0) -> 83.444593 | M20: =L20+M19 -> 1068.3524 | N20: =IF(AND(B20>=ドル!$C$2,B20<=ドル!$D$3),M20,0) -> 1068.3524 | O20: =IF(C20*N20=0,NA(),C20*N20) -> 128031.35 | P20: =IF(D20=$P$6,N20,"") | Q20: =IF(D20=$Q$6,C20,"")
B21: 37771 | C21: 117.31 | D21: =TEXT(B21,"yyy/m") -> 2003/5 | E21: =E20 -> 10000 | F21: =E21/C21 -> 85.244225 | G21: =TEXT($C$2,"yyyy/mm") -> 2002/04 | H21: =TEXT($N$6,"yyyy/mm") -> 2023/04 | I21: =IF(AND(B21>=ドル!$C$2,B21<=ドル!$D$3),E21,0) -> 10000 | J21: =I20+J20 -> 140000 | K21: =IF(AND(B21>=ドル!$C$2,B21<=ドル!$D$3),J21,NA()) -> 140000 | L21: =IF(AND(B21>=ドル!$C$2,B21<=ドル!$D$3),F21,0) -> 85.244225 | M21: =IFERROR(L21+M20,"") -> 1153.5967 | N21: =IF(AND(B21>=ドル!$C$2,B21<=ドル!$D$3),M21,0) -> 1153.5967 | O21: =IF(C21*N21=0,NA(),C21*N21) -> 135328.42 | P21: =IF(D21=$P$6,N21,"") | Q21: =IF(D21=$Q$6,C21,"")
B22: 37802 | C22: 118.33 | D22: =TEXT(B22,"yyy/m") -> 2003/6 | E22: =E21 -> 10000 | F22: =E22/C22 -> 84.509423 | G22: =TEXT($C$2,"yyyy/mm") -> 2002/04 | H22: =TEXT($N$6,"yyyy/mm") -> 2023/04 | I22: =IF(AND(B22>=ドル!$C$2,B22<=ドル!$D$3),E22,0) -> 10000 | J22: =I21+J21 -> 150000 | K22: =IF(AND(B22>=ドル!$C$2,B22<=ドル!$D$3),J22,NA()) -> 150000 | L22: =IF(AND(B22>=ドル!$C$2,B22<=ドル!$D$3),F22,0) -> 84.509423 | M22: =L22+M21 -> 1238.1061 | N22: =IF(AND(B22>=ドル!$C$2,B22<=ドル!$D$3),M22,0) -> 1238.1061 | O22: =IF(C22*N22=0,NA(),C22*N22) -> 146505.09 | P22: =IF(D22=$P$6,N22,"") | Q22: =IF(D22=$Q$6,C22,"")
B23: 37833 | C23: 118.73 | D23: =TEXT(B23,"yyy/m") -> 2003/7 | E23: =E22 -> 10000 | F23: =E23/C23 -> 84.224712 | G23: =TEXT($C$2,"yyyy/mm") -> 2002/04 | H23: =TEXT($N$6,"yyyy/mm") -> 2023/04 | I23: =IF(AND(B23>=ドル!$C$2,B23<=ドル!$D$3),E23,0) -> 10000 | J23: =I22+J22 -> 160000 | K23: =IF(AND(B23>=ドル!$C$2,B23<=ドル!$D$3),J23,NA()) -> 160000 | L23: =IF(AND(B23>=ドル!$C$2,B23<=ドル!$D$3),F23,0) -> 84.224712 | M23: =IFERROR(L23+M22,"") -> 1322.3308 | N23: =IF(AND(B23>=ドル!$C$2,B23<=ドル!$D$3),M23,0) -> 1322.3308 | O23: =IF(C23*N23=0,NA(),C23*N23) -> 157000.33 | P23: =IF(D23=$P$6,N23,"") | Q23: =IF(D23=$Q$6,C23,"")
B24: 37862 | C24: 118.83 | D24: =TEXT(B24,"yyy/m") -> 2003/8 | E24: =E23 -> 10000 | F24: =E24/C24 -> 84.153833 | G24: =TEXT($C$2,"yyyy/mm") -> 2002/04 | H24: =TEXT($N$6,"yyyy/mm") -> 2023/04 | I24: =IF(AND(B24>=ドル!$C$2,B24<=ドル!$D$3),E24,0) -> 10000 | J24: =I23+J23 -> 170000 | K24: =IF(AND(B24>=ドル!$C$2,B24<=ドル!$D$3),J24,NA()) -> 170000 | L24: =IF(AND(B24>=ドル!$C$2,B24<=ドル!$D$3),F24,0) -> 84.153833 | M24: =L24+M23 -> 1406.4846 | N24: =IF(AND(B24>=ドル!$C$2,B24<=ドル!$D$3),M24,0) -> 1406.4846 | O24: =IF(C24*N24=0,NA(),C24*N24) -> 167132.57 | P24: =IF(D24=$P$6,N24,"") | Q24: =IF(D24=$Q$6,C24,"")
B25: 37894 | C25: 115.23 | D25: =TEXT(B25,"yyy/m") -> 2003/9 | E25: =E24 -> 10000 | F25: =E25/C25 -> 86.782956 | G25: =TEXT($C$2,"yyyy/mm") -> 2002/04 | H25: =TEXT($N$6,"yyyy/mm") -> 2023/04 | I25: =IF(AND(B25>=ドル!$C$2,B25<=ドル!$D$3),E25,0) -> 10000 | J25: =I24+J24 -> 180000 | K25: =IF(AND(B25>=ドル!$C$2,B25<=ドル!$D$3),J25,NA()) -> 180000 | L25: =IF(AND(B25>=ドル!$C$2,B25<=ドル!$D$3),F25,0) -> 86.782956 | M25: =IFERROR(L25+M24,"") -> 1493.2676 | N25: =IF(AND(B25>=ドル!$C$2,B25<=ドル!$D$3),M25,0) -> 1493.2676 | O25: =IF(C25*N25=0,NA(),C25*N25) -> 172069.22 | P25: =IF(D25=$P$6,N25,"") | Q25: =IF(D25=$Q$6,C25,"")
B26: 37925 | C26: 109.62 | D26: =TEXT(B26,"yyy/m") -> 2003/10 | E26: =E25 -> 10000 | F26: =E26/C26 -> 91.224229 | G26: =TEXT($C$2,"yyyy/mm") -> 2002/04 | H26: =TEXT($N$6,"yyyy/mm") -> 2023/04 | I26: =IF(AND(B26>=ドル!$C$2,B26<=ドル!$D$3),E26,0) -> 10000 | J26: =I25+J25 -> 190000 | K26: =IF(AND(B26>=ドル!$C$2,B26<=ドル!$D$3),J26,NA()) -> 190000 | L26: =IF(AND(B26>=ドル!$C$2,B26<=ドル!$D$3),F26,0) -> 91.224229 | M26: =L26+M25 -> 1584.4918 | N26: =IF(AND(B26>=ドル!$C$2,B26<=ドル!$D$3),M26,0) -> 1584.4918 | O26: =IF(C26*N26=0,NA(),C26*N26) -> 173691.99 | P26: =IF(D26=$P$6,N26,"") | Q26: =IF(D26=$Q$6,C26,"")
B27: 37953 | C27: 109.23 | D27: =TEXT(B27,"yyy/m") -> 2003/11 | E27: =E26 -> 10000 | F27: =E27/C27 -> 91.54994 | G27: =TEXT($C$2,"yyyy/mm") -> 2002/04 | H27: =TEXT($N$6,"yyyy/mm") -> 2023/04 | I27: =IF(AND(B27>=ドル!$C$2,B27<=ドル!$D$3),E27,0) -> 10000 | J27: =I26+J26 -> 200000 | K27: =IF(AND(B27>=ドル!$C$2,B27<=ドル!$D$3),J27,NA()) -> 200000 | L27: =IF(AND(B27>=ドル!$C$2,B27<=ドル!$D$3),F27,0) -> 91.54994 | M27: =IFERROR(L27+M26,"") -> 1676.0417 | N27: =IF(AND(B27>=ドル!$C$2,B27<=ドル!$D$3),M27,0) -> 1676.0417 | O27: =IF(C27*N27=0,NA(),C27*N27) -> 183074.04 | P27: =IF(D27=$P$6,N27,"") | Q27: =IF(D27=$Q$6,C27,"")
B28: 37985 | C28: 107.92 | D28: =TEXT(B28,"yyy/m") -> 2003/12 | E28: =E27 -> 10000 | F28: =E28/C28 -> 92.661231 | G28: =TEXT($C$2,"yyyy/mm") -> 2002/04 | H28: =TEXT($N$6,"yyyy/mm") -> 2023/04 | I28: =IF(AND(B28>=ドル!$C$2,B28<=ドル!$D$3),E28,0) -> 10000 | J28: =I27+J27 -> 210000 | K28: =IF(AND(B28>=ドル!$C$2,B28<=ドル!$D$3),J28,NA()) -> 210000 | L28: =IF(AND(B28>=ドル!$C$2,B28<=ドル!$D$3),F28,0) -> 92.661231 | M28: =L28+M27 -> 1768.703 | N28: =IF(AND(B28>=ドル!$C$2,B28<=ドル!$D$3),M28,0) -> 1768.703 | O28: =IF(C28*N28=0,NA(),C28*N28) -> 190878.43 | P28: =IF(D28=$P$6,N28,"") | Q28: =IF(D28=$Q$6,C28,"")
B29: 38016 | C29: 106.42 | D29: =TEXT(B29,"yyy/m") -> 2004/1 | E29: =E28 -> 10000 | F29: =E29/C29 -> 93.967299 | G29: =TEXT($C$2,"yyyy/mm") -> 2002/04 | H29: =TEXT($N$6,"yyyy/mm") -> 2023/04 | I29: =IF(AND(B29>=ドル!$C$2,B29<=ドル!$D$3),E29,0) -> 10000 | J29: =I28+J28 -> 220000 | K29: =IF(AND(B29>=ドル!$C$2,B29<=ドル!$D$3),J29,NA()) -> 220000 | L29: =IF(AND(B29>=ドル!$C$2,B29<=ドル!$D$3),F29,0) -> 93.967299 | M29: =L29+M28 -> 1862.6703 | N29: =IF(AND(B29>=ドル!$C$2,B29<=ドル!$D$3),M29,0) -> 1862.6703 | O29: =IF(C29*N29=0,NA(),C29*N29) -> 198225.37 | P29: =IF(D29=$P$6,N29,"") | Q29: =IF(D29=$Q$6,C29,"")
B30: 38044 | C30: 106.61 | D30: =TEXT(B30,"yyy/m") -> 2004/2 | E30: =E29 -> 10000 | F30: =E30/C30 -> 93.799831 | G30: =TEXT($C$2,"yyyy/mm") -> 2002/04 | H30: =TEXT($N$6,"yyyy/mm") -> 2023/04 | I30: =IF(AND(B30>=ドル!$C$2,B30<=ドル!$D$3),E30,0) -> 10000 | J30: =I29+J29 -> 230000 | K30: =IF(AND(B30>=ドル!$C$2,B30<=ドル!$D$3),J30,NA()) -> 230000 | L30: =IF(AND(B30>=ドル!$C$2,B30<=ドル!$D$3),F30,0) -> 93.799831 | M30: =IFERROR(L30+M29,"") -> 1956.4701 | N30: =IF(AND(B30>=ドル!$C$2,B30<=ドル!$D$3),M30,0) -> 1956.4701 | O30: =IF(C30*N30=0,NA(),C30*N30) -> 208579.28 | P30: =IF(D30=$P$6,N30,"") | Q30: =IF(D30=$Q$6,C30,"")
B31: 38077 | C31: 108.75 | D31: =TEXT(B31,"yyy/m") -> 2004/3 | E31: =E30 -> 10000 | F31: =E31/C31 -> 91.954023 | G31: =TEXT($C$2,"yyyy/mm") -> 2002/04 | H31: =TEXT($N$6,"yyyy/mm") -> 2023/04 | I31: =IF(AND(B31>=ドル!$C$2,B31<=ドル!$D$3),E31,0) -> 10000 | J31: =I30+J30 -> 240000 | K31: =IF(AND(B31>=ドル!$C$2,B31<=ドル!$D$3),J31,NA()) -> 240000 | L31: =IF(AND(B31>=ドル!$C$2,B31<=ドル!$D$3),F31,0) -> 91.954023 | M31: =L31+M30 -> 2048.4241 | N31: =IF(AND(B31>=ドル!$C$2,B31<=ドル!$D$3),M31,0) -> 2048.4241 | O31: =IF(C31*N31=0,NA(),C31*N31) -> 222766.12 | P31: =IF(D31=$P$6,N31,"") | Q31: =IF(D31=$Q$6,C31,"")
B32: 38107 | C32: 107.37 | D32: =TEXT(B32,"yyy/m") -> 2004/4 | E32: =E31 -> 10000 | F32: =E32/C32 -> 93.135885 | G32: =TEXT($C$2,"yyyy/mm") -> 2002/04 | H32: =TEXT($N$6,"yyyy/mm") -> 2023/04 | I32: =IF(AND(B32>=ドル!$C$2,B32<=ドル!$D$3),E32,0) -> 10000 | J32: =I31+J31 -> 250000 | K32: =IF(AND(B32>=ドル!$C$2,B32<=ドル!$D$3),J32,NA()) -> 250000 | L32: =IF(AND(B32>=ドル!$C$2,B32<=ドル!$D$3),F32,0) -> 93.135885 | M32: =IFERROR(L32+M31,"") -> 2141.56 | N32: =IF(AND(B32>=ドル!$C$2,B32<=ドル!$D$3),M32,0) -> 2141.56 | O32: =IF(C32*N32=0,NA(),C32*N32) -> 229939.3 | P32: =IF(D32=$P$6,N32,"") | Q32: =IF(D32=$Q$6,C32,"")
B33: 38138 | C33: 112.45 | D33: =TEXT(B33,"yyy/m") -> 2004/5 | E33: =E32 -> 10000 | F33: =E33/C33 -> 88.928413 | G33: =TEXT($C$2,"yyyy/mm") -> 2002/04 | H33: =TEXT($N$6,"yyyy/mm") -> 2023/04 | I33: =IF(AND(B33>=ドル!$C$2,B33<=ドル!$D$3),E33,0) -> 10000 | J33: =I32+J32 -> 260000 | K33: =IF(AND(B33>=ドル!$C$2,B33<=ドル!$D$3),J33,NA()) -> 260000 | L33: =IF(AND(B33>=ドル!$C$2,B33<=ドル!$D$3),F33,0) -> 88.928413 | M33: =L33+M32 -> 2230.4884 | N33: =IF(AND(B33>=ドル!$C$2,B33<=ドル!$D$3),M33,0) -> 2230.4884 | O33: =IF(C33*N33=0,NA(),C33*N33) -> 250818.42 | P33: =IF(D33=$P$6,N33,"") | Q33: =IF(D33=$Q$6,C33,"")
B34: 38168 | C34: 109.48 | D34: =TEXT(B34,"yyy/m") -> 2004/6 | E34: =E33 -> 10000 | F34: =E34/C34 -> 91.340884 | G34: =TEXT($C$2,"yyyy/mm") -> 2002/04 | H34: =TEXT($N$6,"yyyy/mm") -> 2023/04 | I34: =IF(AND(B34>=ドル!$C$2,B34<=ドル!$D$3),E34,0) -> 10000 | J34: =I33+J33 -> 270000 | K34: =IF(AND(B34>=ドル!$C$2,B34<=ドル!$D$3),J34,NA()) -> 270000 | L34: =IF(AND(B34>=ドル!$C$2,B34<=ドル!$D$3),F34,0) -> 91.340884 | M34: =IFERROR(L34+M33,"") -> 2321.8293 | N34: =IF(AND(B34>=ドル!$C$2,B34<=ドル!$D$3),M34,0) -> 2321.8293 | O34: =IF(C34*N34=0,NA(),C34*N34) -> 254193.87 | P34: =IF(D34=$P$6,N34,"") | Q34: =IF(D34=$Q$6,C34,"")
B35: 38198 | C35: 109.4 | D35: =TEXT(B35,"yyy/m") -> 2004/7 | E35: =E34 -> 10000 | F35: =E35/C35 -> 91.407678 | G35: =TEXT($C$2,"yyyy/mm") -> 2002/04 | H35: =TEXT($N$6,"yyyy/mm") -> 2023/04 | I35: =IF(AND(B35>=ドル!$C$2,B35<=ドル!$D$3),E35,0) -> 10000 | J35: =I34+J34 -> 280000 | K35: =IF(AND(B35>=ドル!$C$2,B35<=ドル!$D$3),J35,NA()) -> 280000 | L35: =IF(AND(B35>=ドル!$C$2,B35<=ドル!$D$3),F35,0) -> 91.407678 | M35: =L35+M34 -> 2413.237 | N35: =IF(AND(B35>=ドル!$C$2,B35<=ドル!$D$3),M35,0) -> 2413.237 | O35: =IF(C35*N35=0,NA(),C35*N35) -> 264008.13 | P35: =IF(D35=$P$6,N35,"") | Q35: =IF(D35=$Q$6,C35,"")
B36: 38230 | C36: 110.4 | D36: =TEXT(B36,"yyy/m") -> 2004/8 | E36: =E35 -> 10000 | F36: =E36/C36 -> 90.57971 | G36: =TEXT($C$2,"yyyy/mm") -> 2002/04 | H36: =TEXT($N$6,"yyyy/mm") -> 2023/04 | I36: =IF(AND(B36>=ドル!$C$2,B36<=ドル!$D$3),E36,0) -> 10000 | J36: =I35+J35 -> 290000 | K36: =IF(AND(B36>=ドル!$C$2,B36<=ドル!$D$3),J36,NA()) -> 290000 | L36: =IF(AND(B36>=ドル!$C$2,B36<=ドル!$D$3),F36,0) -> 90.57971 | M36: =IFERROR(L36+M35,"") -> 2503.8167 | N36: =IF(AND(B36>=ドル!$C$2,B36<=ドル!$D$3),M36,0) -> 2503.8167 | O36: =IF(C36*N36=0,NA(),C36*N36) -> 276421.36 | P36: =IF(D36=$P$6,N36,"") | Q36: =IF(D36=$Q$6,C36,"")
B37: 38260 | C37: 110.07 | D37: =TEXT(B37,"yyy/m") -> 2004/9 | E37: =E36 -> 10000 | F37: =E37/C37 -> 90.851276 | G37: =TEXT($C$2,"yyyy/mm") -> 2002/04 | H37: =TEXT($N$6,"yyyy/mm") -> 2023/04 | I37: =IF(AND(B37>=ドル!$C$2,B37<=ドル!$D$3),E37,0) -> 10000 | J37: =I36+J36 -> 300000 | K37: =IF(AND(B37>=ドル!$C$2,B37<=ドル!$D$3),J37,NA()) -> 300000 | L37: =IF(AND(B37>=ドル!$C$2,B37<=ドル!$D$3),F37,0) -> 90.851276 | M37: =L37+M36 -> 2594.668 | N37: =IF(AND(B37>=ドル!$C$2,B37<=ドル!$D$3),M37,0) -> 2594.668 | O37: =IF(C37*N37=0,NA(),C37*N37) -> 285595.1 | P37: =IF(D37=$P$6,N37,"") | Q37: =IF(D37=$Q$6,C37,"")
B38: 38289 | C38: 109.06 | D38: =TEXT(B38,"yyy/m") -> 2004/10 | E38: =E37 -> 10000 | F38: =E38/C38 -> 91.692646 | G38: =TEXT($C$2,"yyyy/mm") -> 2002/04 | H38: =TEXT($N$6,"yyyy/mm") -> 2023/04 | I38: =IF(AND(B38>=ドル!$C$2,B38<=ドル!$D$3),E38,0) -> 10000 | J38: =I37+J37 -> 310000 | K38: =IF(AND(B38>=ドル!$C$2,B38<=ドル!$D$3),J38,NA()) -> 310000 | L38: =IF(AND(B38>=ドル!$C$2,B38<=ドル!$D$3),F38,0) -> 91.692646 | M38: =IFERROR(L38+M37,"") -> 2686.3606 | N38: =IF(AND(B38>=ドル!$C$2,B38<=ドル!$D$3),M38,0) -> 2686.3606 | O38: =IF(C38*N38=0,NA(),C38*N38) -> 292974.49 | P38: =IF(D38=$P$6,N38,"") | Q38: =IF(D38=$Q$6,C38,"")
B39: 38321 | C39: 104.93 | D39: =TEXT(B39,"yyy/m") -> 2004/11 | E39: =E38 -> 10000 | F39: =E39/C39 -> 95.30163 | G39: =TEXT($C$2,"yyyy/mm") -> 2002/04 | H39: =TEXT($N$6,"yyyy/mm") -> 2023/04 | I39: =IF(AND(B39>=ドル!$C$2,B39<=ドル!$D$3),E39,0) -> 10000 | J39: =I38+J38 -> 320000 | K39: =IF(AND(B39>=ドル!$C$2,B39<=ドル!$D$3),J39,NA()) -> 320000 | L39: =IF(AND(B39>=ドル!$C$2,B39<=ドル!$D$3),F39,0) -> 95.30163 | M39: =L39+M38 -> 2781.6623 | N39: =IF(AND(B39>=ドル!$C$2,B39<=ドル!$D$3),M39,0) -> 2781.6623 | O39: =IF(C39*N39=0,NA(),C39*N39) -> 291879.82 | P39: =IF(D39=$P$6,N39,"") | Q39: =IF(D39=$Q$6,C39,"")
B40: 38351 | C40: 103.87 | D40: =TEXT(B40,"yyy/m") -> 2004/12 | E40: =E39 -> 10000 | F40: =E40/C40 -> 96.274189 | G40: =TEXT($C$2,"yyyy/mm") -> 2002/04 | H40: =TEXT($N$6,"yyyy/mm") -> 2023/04 | I40: =IF(AND(B40>=ドル!$C$2,B40<=ドル!$D$3),E40,0) -> 10000 | J40: =I39+J39 -> 330000 | K40: =IF(AND(B40>=ドル!$C$2,B40<=ドル!$D$3),J40,NA()) -> 330000 | L40: =IF(AND(B40>=ドル!$C$2,B40<=ドル!$D$3),F40,0) -> 96.274189 | M40: =L40+M39 -> 2877.9364 | N40: =IF(AND(B40>=ドル!$C$2,B40<=ドル!$D$3),M40,0) -> 2877.9364 | O40: =IF(C40*N40=0,NA(),C40*N40) -> 298931.26 | P40: =IF(D40=$P$6,N40,"") | Q40: =IF(D40=$Q$6,C40,"")
B41: 38383 | C41: 103.28 | D41: =TEXT(B41,"yyy/m") -> 2005/1 | E41: =E40 -> 10000 | F41: =E41/C41 -> 96.824167 | G41: =TEXT($C$2,"yyyy/mm") -> 2002/04 | H41: =TEXT($N$6,"yyyy/mm") -> 2023/04 | I41: =IF(AND(B41>=ドル!$C$2,B41<=ドル!$D$3),E41,0) -> 10000 | J41: =I40+J40 -> 340000 | K41: =IF(AND(B41>=ドル!$C$2,B41<=ドル!$D$3),J41,NA()) -> 340000 | L41: =IF(AND(B41>=ドル!$C$2,B41<=ドル!$D$3),F41,0) -> 96.824167 | M41: =IFERROR(L41+M40,"") -> 2974.7606 | N41: =IF(AND(B41>=ドル!$C$2,B41<=ドル!$D$3),M41,0) -> 2974.7606 | O41: =IF(C41*N41=0,NA(),C41*N41) -> 307233.28 | P41: =IF(D41=$P$6,N41,"") | Q41: =IF(D41=$Q$6,C41,"")
B42: 38411 | C42: 104.93 | D42: =TEXT(B42,"yyy/m") -> 2005/2 | E42: =E41 -> 10000 | F42: =E42/C42 -> 95.30163 | G42: =TEXT($C$2,"yyyy/mm") -> 2002/04 | H42: =TEXT($N$6,"yyyy/mm") -> 2023/04 | I42: =IF(AND(B42>=ドル!$C$2,B42<=ドル!$D$3),E42,0) -> 10000 | J42: =I41+J41 -> 350000 | K42: =IF(AND(B42>=ドル!$C$2,B42<=ドル!$D$3),J42,NA()) -> 350000 | L42: =IF(AND(B42>=ドル!$C$2,B42<=ドル!$D$3),F42,0) -> 95.30163 | M42: =L42+M41 -> 3070.0622 | N42: =IF(AND(B42>=ドル!$C$2,B42<=ドル!$D$3),M42,0) -> 3070.0622 | O42: =IF(C42*N42=0,NA(),C42*N42) -> 322141.63 | P42: =IF(D42=$P$6,N42,"") | Q42: =IF(D42=$Q$6,C42,"")
B43: 38442 | C43: 105.33 | D43: =TEXT(B43,"yyy/m") -> 2005/3 | E43: =E42 -> 10000 | F43: =E43/C43 -> 94.939713 | G43: =TEXT($C$2,"yyyy/mm") -> 2002/04 | H43: =TEXT($N$6,"yyyy/mm") -> 2023/04 | I43: =IF(AND(B43>=ドル!$C$2,B43<=ドル!$D$3),E43,0) -> 10000 | J43: =I42+J42 -> 360000 | K43: =IF(AND(B43>=ドル!$C$2,B43<=ドル!$D$3),J43,NA()) -> 360000 | L43: =IF(AND(B43>=ドル!$C$2,B43<=ドル!$D$3),F43,0) -> 94.939713 | M43: =IFERROR(L43+M42,"") -> 3165.002 | N43: =IF(AND(B43>=ドル!$C$2,B43<=ドル!$D$3),M43,0) -> 3165.002 | O43: =IF(C43*N43=0,NA(),C43*N43) -> 333369.66 | P43: =IF(D43=$P$6,N43,"") | Q43: =IF(D43=$Q$6,C43,"")
B44: 38470 | C44: 107.46 | D44: =TEXT(B44,"yyy/m") -> 2005/4 | E44: =E43 -> 10000 | F44: =E44/C44 -> 93.057882 | G44: =TEXT($C$2,"yyyy/mm") -> 2002/04 | H44: =TEXT($N$6,"yyyy/mm") -> 2023/04 | I44: =IF(AND(B44>=ドル!$C$2,B44<=ドル!$D$3),E44,0) -> 10000 | J44: =I43+J43 -> 370000 | K44: =IF(AND(B44>=ドル!$C$2,B44<=ドル!$D$3),J44,NA()) -> 370000 | L44: =IF(AND(B44>=ドル!$C$2,B44<=ドル!$D$3),F44,0) -> 93.057882 | M44: =L44+M43 -> 3258.0598 | N44: =IF(AND(B44>=ドル!$C$2,B44<=ドル!$D$3),M44,0) -> 3258.0598 | O44: =IF(C44*N44=0,NA(),C44*N44) -> 350111.11 | P44: =IF(D44=$P$6,N44,"") | Q44: =IF(D44=$Q$6,C44,"")
B45: 38503 | C45: 106.93 | D45: =TEXT(B45,"yyy/m") -> 2005/5 | E45: =E44 -> 10000 | F45: =E45/C45 -> 93.519125 | G45: =TEXT($C$2,"yyyy/mm") -> 2002/04 | H45: =TEXT($N$6,"yyyy/mm") -> 2023/04 | I45: =IF(AND(B45>=ドル!$C$2,B45<=ドル!$D$3),E45,0) -> 10000 | J45: =I44+J44 -> 380000 | K45: =IF(AND(B45>=ドル!$C$2,B45<=ドル!$D$3),J45,NA()) -> 380000 | L45: =IF(AND(B45>=ドル!$C$2,B45<=ドル!$D$3),F45,0) -> 93.519125 | M45: =IFERROR(L45+M44,"") -> 3351.579 | N45: =IF(AND(B45>=ドル!$C$2,B45<=ドル!$D$3),M45,0) -> 3351.579 | O45: =IF(C45*N45=0,NA(),C45*N45) -> 358384.34 | P45: =IF(D45=$P$6,N45,"") | Q45: =IF(D45=$Q$6,C45,"")
B46: 38533 | C46: 108.68 | D46: =TEXT(B46,"yyy/m") -> 2005/6 | E46: =E45 -> 10000 | F46: =E46/C46 -> 92.01325 | G46: =TEXT($C$2,"yyyy/mm") -> 2002/04 | H46: =TEXT($N$6,"yyyy/mm") -> 2023/04 | I46: =IF(AND(B46>=ドル!$C$2,B46<=ドル!$D$3),E46,0) -> 10000 | J46: =I45+J45 -> 390000 | K46: =IF(AND(B46>=ドル!$C$2,B46<=ドル!$D$3),J46,NA()) -> 390000 | L46: =IF(AND(B46>=ドル!$C$2,B46<=ドル!$D$3),F46,0) -> 92.01325 | M46: =L46+M45 -> 3443.5922 | N46: =IF(AND(B46>=ドル!$C$2,B46<=ドル!$D$3),M46,0) -> 3443.5922 | O46: =IF(C46*N46=0,NA(),C46*N46) -> 374249.6 | P46: =IF(D46=$P$6,N46,"") | Q46: =IF(D46=$Q$6,C46,"")
B47: 38562 | C47: 111.96 | D47: =TEXT(B47,"yyy/m") -> 2005/7 | E47: =E46 -> 10000 | F47: =E47/C47 -> 89.317613 | G47: =TEXT($C$2,"yyyy/mm") -> 2002/04 | H47: =TEXT($N$6,"yyyy/mm") -> 2023/04 | I47: =IF(AND(B47>=ドル!$C$2,B47<=ドル!$D$3),E47,0) -> 10000 | J47: =I46+J46 -> 400000 | K47: =IF(AND(B47>=ドル!$C$2,B47<=ドル!$D$3),J47,NA()) -> 400000 | L47: =IF(AND(B47>=ドル!$C$2,B47<=ドル!$D$3),F47,0) -> 89.317613 | M47: =IFERROR(L47+M46,"") -> 3532.9098 | N47: =IF(AND(B47>=ドル!$C$2,B47<=ドル!$D$3),M47,0) -> 3532.9098 | O47: =IF(C47*N47=0,NA(),C47*N47) -> 395544.58 | P47: =IF(D47=$P$6,N47,"") | Q47: =IF(D47=$Q$6,C47,"")
B48: 38595 | C48: 110.79 | D48: =TEXT(B48,"yyy/m") -> 2005/8 | E48: =E47 -> 10000 | F48: =E48/C48 -> 90.260854 | G48: =TEXT($C$2,"yyyy/mm") -> 2002/04 | H48: =TEXT($N$6,"yyyy/mm") -> 2023/04 | I48: =IF(AND(B48>=ドル!$C$2,B48<=ドル!$D$3),E48,0) -> 10000 | J48: =I47+J47 -> 410000 | K48: =IF(AND(B48>=ドル!$C$2,B48<=ドル!$D$3),J48,NA()) -> 410000 | L48: =IF(AND(B48>=ドル!$C$2,B48<=ドル!$D$3),F48,0) -> 90.260854 | M48: =L48+M47 -> 3623.1707 | N48: =IF(AND(B48>=ドル!$C$2,B48<=ドル!$D$3),M48,0) -> 3623.1707 | O48: =IF(C48*N48=0,NA(),C48*N48) -> 401411.08 | P48: =IF(D48=$P$6,N48,"") | Q48: =IF(D48=$Q$6,C48,"")
B49: 38625 | C49: 111.08 | D49: =TEXT(B49,"yyy/m") -> 2005/9 | E49: =E48 -> 10000 | F49: =E49/C49 -> 90.025207 | G49: =TEXT($C$2,"yyyy/mm") -> 2002/04 | H49: =TEXT($N$6,"yyyy/mm") -> 2023/04 | I49: =IF(AND(B49>=ドル!$C$2,B49<=ドル!$D$3),E49,0) -> 10000 | J49: =I48+J48 -> 420000 | K49: =IF(AND(B49>=ドル!$C$2,B49<=ドル!$D$3),J49,NA()) -> 420000 | L49: =IF(AND(B49>=ドル!$C$2,B49<=ドル!$D$3),F49,0) -> 90.025207 | M49: =IFERROR(L49+M48,"") -> 3713.1959 | N49: =IF(AND(B49>=ドル!$C$2,B49<=ドル!$D$3),M49,0) -> 3713.1959 | O49: =IF(C49*N49=0,NA(),C49*N49) -> 412461.8 | P49: =IF(D49=$P$6,N49,"") | Q49: =IF(D49=$Q$6,C49,"")
B50: 38656 | C50: 114.91 | D50: =TEXT(B50,"yyy/m") -> 2005/10 | E50: =E49 -> 10000 | F50: =E50/C50 -> 87.024628 | G50: =TEXT($C$2,"yyyy/mm") -> 2002/04 | H50: =TEXT($N$6,"yyyy/mm") -> 2023/04 | I50: =IF(AND(B50>=ドル!$C$2,B50<=ドル!$D$3),E50,0) -> 10000 | J50: =I49+J49 -> 430000 | K50: =IF(AND(B50>=ドル!$C$2,B50<=ドル!$D$3),J50,NA()) -> 430000 | L50: =IF(AND(B50>=ドル!$C$2,B50<=ドル!$D$3),F50,0) -> 87.024628 | M50: =L50+M49 -> 3800.2205 | N50: =IF(AND(B50>=ドル!$C$2,B50<=ドル!$D$3),M50,0) -> 3800.2205 | O50: =IF(C50*N50=0,NA(),C50*N50) -> 436683.34 | P50: =IF(D50=$P$6,N50,"") | Q50: =IF(D50=$Q$6,C50,"")
B51: 38686 | C51: 118.44 | D51: =TEXT(B51,"yyy/m") -> 2005/11 | E51: =E50 -> 10000 | F51: =E51/C51 -> 84.430935 | G51: =TEXT($C$2,"yyyy/mm") -> 2002/04 | H51: =TEXT($N$6,"yyyy/mm") -> 2023/04 | I51: =IF(AND(B51>=ドル!$C$2,B51<=ドル!$D$3),E51,0) -> 10000 | J51: =I50+J50 -> 440000 | K51: =IF(AND(B51>=ドル!$C$2,B51<=ドル!$D$3),J51,NA()) -> 440000 | L51: =IF(AND(B51>=ドル!$C$2,B51<=ドル!$D$3),F51,0) -> 84.430935 | M51: =L51+M50 -> 3884.6514 | N51: =IF(AND(B51>=ドル!$C$2,B51<=ドル!$D$3),M51,0) -> 3884.6514 | O51: =IF(C51*N51=0,NA(),C51*N51) -> 460098.12 | P51: =IF(D51=$P$6,N51,"") | Q51: =IF(D51=$Q$6,C51,"")
B52: 38716 | C52: 118.7 | D52: =TEXT(B52,"yyy/m") -> 2005/12 | E52: =E51 -> 10000 | F52: =E52/C52 -> 84.245998 | G52: =TEXT($C$2,"yyyy/mm") -> 2002/04 | H52: =TEXT($N$6,"yyyy/mm") -> 2023/04 | I52: =IF(AND(B52>=ドル!$C$2,B52<=ドル!$D$3),E52,0) -> 10000 | J52: =I51+J51 -> 450000 | K52: =IF(AND(B52>=ドル!$C$2,B52<=ドル!$D$3),J52,NA()) -> 450000 | L52: =IF(AND(B52>=ドル!$C$2,B52<=ドル!$D$3),F52,0) -> 84.245998 | M52: =IFERROR(L52+M51,"") -> 3968.8974 | N52: =IF(AND(B52>=ドル!$C$2,B52<=ドル!$D$3),M52,0) -> 3968.8974 | O52: =IF(C52*N52=0,NA(),C52*N52) -> 471108.13 | P52: =IF(D52=$P$6,N52,"") | Q52: =IF(D52=$Q$6,C52,"")
B53: 38748 | C53: 115.49 | D53: =TEXT(B53,"yyy/m") -> 2006/1 | E53: =E52 -> 10000 | F53: =E53/C53 -> 86.587583 | G53: =TEXT($C$2,"yyyy/mm") -> 2002/04 | H53: =TEXT($N$6,"yyyy/mm") -> 2023/04 | I53: =IF(AND(B53>=ドル!$C$2,B53<=ドル!$D$3),E53,0) -> 10000 | J53: =I52+J52 -> 460000 | K53: =IF(AND(B53>=ドル!$C$2,B53<=ドル!$D$3),J53,NA()) -> 460000 | L53: =IF(AND(B53>=ドル!$C$2,B53<=ドル!$D$3),F53,0) -> 86.587583 | M53: =L53+M52 -> 4055.485 | N53: =IF(AND(B53>=ドル!$C$2,B53<=ドル!$D$3),M53,0) -> 4055.485 | O53: =IF(C53*N53=0,NA(),C53*N53) -> 468367.97 | P53: =IF(D53=$P$6,N53,"") | Q53: =IF(D53=$Q$6,C53,"")
B54: 38776 | C54: 117.97 | D54: =TEXT(B54,"yyy/m") -> 2006/2 | E54: =E53 -> 10000 | F54: =E54/C54 -> 84.767314 | G54: =TEXT($C$2,"yyyy/mm") -> 2002/04 | H54: =TEXT($N$6,"yyyy/mm") -> 2023/04 | I54: =IF(AND(B54>=ドル!$C$2,B54<=ドル!$D$3),E54,0) -> 10000 | J54: =I53+J53 -> 470000 | K54: =IF(AND(B54>=ドル!$C$2,B54<=ドル!$D$3),J54,NA()) -> 470000 | L54: =IF(AND(B54>=ドル!$C$2,B54<=ドル!$D$3),F54,0) -> 84.767314 | M54: =IFERROR(L54+M53,"") -> 4140.2523 | N54: =IF(AND(B54>=ドル!$C$2,B54<=ドル!$D$3),M54,0) -> 4140.2523 | O54: =IF(C54*N54=0,NA(),C54*N54) -> 488425.57 | P54: =IF(D54=$P$6,N54,"") | Q54: =IF(D54=$Q$6,C54,"")
B55: 38807 | C55: 117.37 | D55: =TEXT(B55,"yyy/m") -> 2006/3 | E55: =E54 -> 10000 | F55: =E55/C55 -> 85.200648 | G55: =TEXT($C$2,"yyyy/mm") -> 2002/04 | H55: =TEXT($N$6,"yyyy/mm") -> 2023/04 | I55: =IF(AND(B55>=ドル!$C$2,B55<=ドル!$D$3),E55,0) -> 10000 | J55: =I54+J54 -> 480000 | K55: =IF(AND(B55>=ドル!$C$2,B55<=ドル!$D$3),J55,NA()) -> 480000 | L55: =IF(AND(B55>=ドル!$C$2,B55<=ドル!$D$3),F55,0) -> 85.200648 | M55: =L55+M54 -> 4225.453 | N55: =IF(AND(B55>=ドル!$C$2,B55<=ドル!$D$3),M55,0) -> 4225.453 | O55: =IF(C55*N55=0,NA(),C55*N55) -> 495941.42 | P55: =IF(D55=$P$6,N55,"") | Q55: =IF(D55=$Q$6,C55,"")
B56: 38835 | C56: 117.19 | D56: =TEXT(B56,"yyy/m") -> 2006/4 | E56: =E55 -> 10000 | F56: =E56/C56 -> 85.331513 | G56: =TEXT($C$2,"yyyy/mm") -> 2002/04 | H56: =TEXT($N$6,"yyyy/mm") -> 2023/04 | I56: =IF(AND(B56>=ドル!$C$2,B56<=ドル!$D$3),E56,0) -> 10000 | J56: =I55+J55 -> 490000 | K56: =IF(AND(B56>=ドル!$C$2,B56<=ドル!$D$3),J56,NA()) -> 490000 | L56: =IF(AND(B56>=ドル!$C$2,B56<=ドル!$D$3),F56,0) -> 85.331513 | M56: =IFERROR(L56+M55,"") -> 4310.7845 | N56: =IF(AND(B56>=ドル!$C$2,B56<=ドル!$D$3),M56,0) -> 4310.7845 | O56: =IF(C56*N56=0,NA(),C56*N56) -> 505180.84 | P56: =IF(D56=$P$6,N56,"") | Q56: =IF(D56=$Q$6,C56,"")
B57: 38868 | C57: 111.7 | D57: =TEXT(B57,"yyy/m") -> 2006/5 | E57: =E56 -> 10000 | F57: =E57/C57 -> 89.525515 | G57: =TEXT($C$2,"yyyy/mm") -> 2002/04 | H57: =TEXT($N$6,"yyyy/mm") -> 2023/04 | I57: =IF(AND(B57>=ドル!$C$2,B57<=ドル!$D$3),E57,0) -> 10000 | J57: =I56+J56 -> 500000 | K57: =IF(AND(B57>=ドル!$C$2,B57<=ドル!$D$3),J57,NA()) -> 500000 | L57: =IF(AND(B57>=ドル!$C$2,B57<=ドル!$D$3),F57,0) -> 89.525515 | M57: =L57+M56 -> 4400.31 | N57: =IF(AND(B57>=ドル!$C$2,B57<=ドル!$D$3),M57,0) -> 4400.31 | O57: =IF(C57*N57=0,NA(),C57*N57) -> 491514.63 | P57: =IF(D57=$P$6,N57,"") | Q57: =IF(D57=$Q$6,C57,"")
B58: 38898 | C58: 114.62 | D58: =TEXT(B58,"yyy/m") -> 2006/6 | E58: =E57 -> 10000 | F58: =E58/C58 -> 87.244809 | G58: =TEXT($C$2,"yyyy/mm") -> 2002/04 | H58: =TEXT($N$6,"yyyy/mm") -> 2023/04 | I58: =IF(AND(B58>=ドル!$C$2,B58<=ドル!$D$3),E58,0) -> 10000 | J58: =I57+J57 -> 510000 | K58: =IF(AND(B58>=ドル!$C$2,B58<=ドル!$D$3),J58,NA()) -> 510000 | L58: =IF(AND(B58>=ドル!$C$2,B58<=ドル!$D$3),F58,0) -> 87.244809 | M58: =IFERROR(L58+M57,"") -> 4487.5548 | N58: =IF(AND(B58>=ドル!$C$2,B58<=ドル!$D$3),M58,0) -> 4487.5548 | O58: =IF(C58*N58=0,NA(),C58*N58) -> 514363.53 | P58: =IF(D58=$P$6,N58,"") | Q58: =IF(D58=$Q$6,C58,"")
B59: 38929 | C59: 115.75 | D59: =TEXT(B59,"yyy/m") -> 2006/7 | E59: =E58 -> 10000 | F59: =E59/C59 -> 86.393089 | G59: =TEXT($C$2,"yyyy/mm") -> 2002/04 | H59: =TEXT($N$6,"yyyy/mm") -> 2023/04 | I59: =IF(AND(B59>=ドル!$C$2,B59<=ドル!$D$3),E59,0) -> 10000 | J59: =I58+J58 -> 520000 | K59: =IF(AND(B59>=ドル!$C$2,B59<=ドル!$D$3),J59,NA()) -> 520000 | L59: =IF(AND(B59>=ドル!$C$2,B59<=ドル!$D$3),F59,0) -> 86.393089 | M59: =L59+M58 -> 4573.9479 | N59: =IF(AND(B59>=ドル!$C$2,B59<=ドル!$D$3),M59,0) -> 4573.9479 | O59: =IF(C59*N59=0,NA(),C59*N59) -> 529434.47 | P59: =IF(D59=$P$6,N59,"") | Q59: =IF(D59=$Q$6,C59,"")
B60: 38960 | C60: 115.92 | D60: =TEXT(B60,"yyy/m") -> 2006/8 | E60: =E59 -> 10000 | F60: =E60/C60 -> 86.266391 | G60: =TEXT($C$2,"yyyy/mm") -> 2002/04 | H60: =TEXT($N$6,"yyyy/mm") -> 2023/04 | I60: =IF(AND(B60>=ドル!$C$2,B60<=ドル!$D$3),E60,0) -> 10000 | J60: =I59+J59 -> 530000 | K60: =IF(AND(B60>=ドル!$C$2,B60<=ドル!$D$3),J60,NA()) -> 530000 | L60: =IF(AND(B60>=ドル!$C$2,B60<=ドル!$D$3),F60,0) -> 86.266391 | M60: =IFERROR(L60+M59,"") -> 4660.2143 | N60: =IF(AND(B60>=ドル!$C$2,B60<=ドル!$D$3),M60,0) -> 4660.2143 | O60: =IF(C60*N60=0,NA(),C60*N60) -> 540212.04 | P60: =IF(D60=$P$6,N60,"") | Q60: =IF(D60=$Q$6,C60,"")
B61: 38989 | C61: 117.12 | D61: =TEXT(B61,"yyy/m") -> 2006/9 | E61: =E60 -> 10000 | F61: =E61/C61 -> 85.382514 | G61: =TEXT($C$2,"yyyy/mm") -> 2002/04 | H61: =TEXT($N$6,"yyyy/mm") -> 2023/04 | I61: =IF(AND(B61>=ドル!$C$2,B61<=ドル!$D$3),E61,0) -> 10000 | J61: =I60+J60 -> 540000 | K61: =IF(AND(B61>=ドル!$C$2,B61<=ドル!$D$3),J61,NA()) -> 540000 | L61: =IF(AND(B61>=ドル!$C$2,B61<=ドル!$D$3),F61,0) -> 85.382514 | M61: =L61+M60 -> 4745.5968 | N61: =IF(AND(B61>=ドル!$C$2,B61<=ドル!$D$3),M61,0) -> 4745.5968 | O61: =IF(C61*N61=0,NA(),C61*N61) -> 555804.3 | P61: =IF(D61=$P$6,N61,"") | Q61: =IF(D61=$Q$6,C61,"")
B62: 39021 | C62: 118.71 | D62: =TEXT(B62,"yyy/m") -> 2006/10 | E62: =E61 -> 10000 | F62: =E62/C62 -> 84.238902 | G62: =TEXT($C$2,"yyyy/mm") -> 2002/04 | H62: =TEXT($N$6,"yyyy/mm") -> 2023/04 | I62: =IF(AND(B62>=ドル!$C$2,B62<=ドル!$D$3),E62,0) -> 10000 | J62: =I61+J61 -> 550000 | K62: =IF(AND(B62>=ドル!$C$2,B62<=ドル!$D$3),J62,NA()) -> 550000 | L62: =IF(AND(B62>=ドル!$C$2,B62<=ドル!$D$3),F62,0) -> 84.238902 | M62: =L62+M61 -> 4829.8357 | N62: =IF(AND(B62>=ドル!$C$2,B62<=ドル!$D$3),M62,0) -> 4829.8357 | O62: =IF(C62*N62=0,NA(),C62*N62) -> 573349.8 | P62: =IF(D62=$P$6,N62,"") | Q62: =IF(D62=$Q$6,C62,"")
B63: 39051 | C63: 117.41 | D63: =TEXT(B63,"yyy/m") -> 2006/11 | E63: =E62 -> 10000 | F63: =E63/C63 -> 85.171621 | G63: =TEXT($C$2,"yyyy/mm") -> 2002/04 | H63: =TEXT($N$6,"yyyy/mm") -> 2023/04 | I63: =IF(AND(B63>=ドル!$C$2,B63<=ドル!$D$3),E63,0) -> 10000 | J63: =I62+J62 -> 560000 | K63: =IF(AND(B63>=ドル!$C$2,B63<=ドル!$D$3),J63,NA()) -> 560000 | L63: =IF(AND(B63>=ドル!$C$2,B63<=ドル!$D$3),F63,0) -> 85.171621 | M63: =IFERROR(L63+M62,"") -> 4915.0073 | N63: =IF(AND(B63>=ドル!$C$2,B63<=ドル!$D$3),M63,0) -> 4915.0073 | O63: =IF(C63*N63=0,NA(),C63*N63) -> 577071.01 | P63: =IF(D63=$P$6,N63,"") | Q63: =IF(D63=$Q$6,C63,"")
B64: 39080 | C64: 117.34 | D64: =TEXT(B64,"yyy/m") -> 2006/12 | E64: =E63 -> 10000 | F64: =E64/C64 -> 85.222431 | G64: =TEXT($C$2,"yyyy/mm") -> 2002/04 | H64: =TEXT($N$6,"yyyy/mm") -> 2023/04 | I64: =IF(AND(B64>=ドル!$C$2,B64<=ドル!$D$3),E64,0) -> 10000 | J64: =I63+J63 -> 570000 | K64: =IF(AND(B64>=ドル!$C$2,B64<=ドル!$D$3),J64,NA()) -> 570000 | L64: =IF(AND(B64>=ドル!$C$2,B64<=ドル!$D$3),F64,0) -> 85.222431 | M64: =L64+M63 -> 5000.2298 | N64: =IF(AND(B64>=ドル!$C$2,B64<=ドル!$D$3),M64,0) -> 5000.2298 | O64: =IF(C64*N64=0,NA(),C64*N64) -> 586726.96 | P64: =IF(D64=$P$6,N64,"") | Q64: =IF(D64=$Q$6,C64,"")
B65: 39113 | C65: 120.69 | D65: =TEXT(B65,"yyy/m") -> 2007/1 | E65: =E64 -> 10000 | F65: =E65/C65 -> 82.856906 | G65: =TEXT($C$2,"yyyy/mm") -> 2002/04 | H65: =TEXT($N$6,"yyyy/mm") -> 2023/04 | I65: =IF(AND(B65>=ドル!$C$2,B65<=ドル!$D$3),E65,0) -> 10000 | J65: =I64+J64 -> 580000 | K65: =IF(AND(B65>=ドル!$C$2,B65<=ドル!$D$3),J65,NA()) -> 580000 | L65: =IF(AND(B65>=ドル!$C$2,B65<=ドル!$D$3),F65,0) -> 82.856906 | M65: =IFERROR(L65+M64,"") -> 5083.0867 | N65: =IF(AND(B65>=ドル!$C$2,B65<=ドル!$D$3),M65,0) -> 5083.0867 | O65: =IF(C65*N65=0,NA(),C65*N65) -> 613477.73 | P65: =IF(D65=$P$6,N65,"") | Q65: =IF(D65=$Q$6,C65,"")
B66: 39141 | C66: 120.55 | D66: =TEXT(B66,"yyy/m") -> 2007/2 | E66: =E65 -> 10000 | F66: =E66/C66 -> 82.953131 | G66: =TEXT($C$2,"yyyy/mm") -> 2002/04 | H66: =TEXT($N$6,"yyyy/mm") -> 2023/04 | I66: =IF(AND(B66>=ドル!$C$2,B66<=ドル!$D$3),E66,0) -> 10000 | J66: =I65+J65 -> 590000 | K66: =IF(AND(B66>=ドル!$C$2,B66<=ドル!$D$3),J66,NA()) -> 590000 | L66: =IF(AND(B66>=ドル!$C$2,B66<=ドル!$D$3),F66,0) -> 82.953131 | M66: =L66+M65 -> 5166.0398 | N66: =IF(AND(B66>=ドル!$C$2,B66<=ドル!$D$3),M66,0) -> 5166.0398 | O66: =IF(C66*N66=0,NA(),C66*N66) -> 622766.1 | P66: =IF(D66=$P$6,N66,"") | Q66: =IF(D66=$Q$6,C66,"")
B67: 39171 | C67: 117.35 | D67: =TEXT(B67,"yyy/m") -> 2007/3 | E67: =E66 -> 10000 | F67: =E67/C67 -> 85.215168 | G67: =TEXT($C$2,"yyyy/mm") -> 2002/04 | H67: =TEXT($N$6,"yyyy/mm") -> 2023/04 | I67: =IF(AND(B67>=ドル!$C$2,B67<=ドル!$D$3),E67,0) -> 10000 | J67: =I66+J66 -> 600000 | K67: =IF(AND(B67>=ドル!$C$2,B67<=ドル!$D$3),J67,NA()) -> 600000 | L67: =IF(AND(B67>=ドル!$C$2,B67<=ドル!$D$3),F67,0) -> 85.215168 | M67: =IFERROR(L67+M66,"") -> 5251.255 | N67: =IF(AND(B67>=ドル!$C$2,B67<=ドル!$D$3),M67,0) -> 5251.255 | O67: =IF(C67*N67=0,NA(),C67*N67) -> 616234.77 | P67: =IF(D67=$P$6,N67,"") | Q67: =IF(D67=$Q$6,C67,"")
B68: 39199 | C68: 118.89 | D68: =TEXT(B68,"yyy/m") -> 2007/4 | E68: =E67 -> 10000 | F68: =E68/C68 -> 84.111363 | G68: =TEXT($C$2,"yyyy/mm") -> 2002/04 | H68: =TEXT($N$6,"yyyy/mm") -> 2023/04 | I68: =IF(AND(B68>=ドル!$C$2,B68<=ドル!$D$3),E68,0) -> 10000 | J68: =I67+J67 -> 610000 | K68: =IF(AND(B68>=ドル!$C$2,B68<=ドル!$D$3),J68,NA()) -> 610000 | L68: =IF(AND(B68>=ドル!$C$2,B68<=ドル!$D$3),F68,0) -> 84.111363 | M68: =L68+M67 -> 5335.3663 | N68: =IF(AND(B68>=ドル!$C$2,B68<=ドル!$D$3),M68,0) -> 5335.3663 | O68: =IF(C68*N68=0,NA(),C68*N68) -> 634321.7 | P68: =IF(D68=$P$6,N68,"") | Q68: =IF(D68=$Q$6,C68,"")
B69: 39233 | C69: 120.82 | D69: =TEXT(B69,"yyy/m") -> 2007/5 | E69: =E68 -> 10000 | F69: =E69/C69 -> 82.767754 | G69: =TEXT($C$2,"yyyy/mm") -> 2002/04 | H69: =TEXT($N$6,"yyyy/mm") -> 2023/04 | I69: =IF(AND(B69>=ドル!$C$2,B69<=ドル!$D$3),E69,0) -> 10000 | J69: =I68+J68 -> 620000 | K69: =IF(AND(B69>=ドル!$C$2,B69<=ドル!$D$3),J69,NA()) -> 620000 | L69: =IF(AND(B69>=ドル!$C$2,B69<=ドル!$D$3),F69,0) -> 82.767754 | M69: =IFERROR(L69+M68,"") -> 5418.1341 | N69: =IF(AND(B69>=ドル!$C$2,B69<=ドル!$D$3),M69,0) -> 5418.1341 | O69: =IF(C69*N69=0,NA(),C69*N69) -> 654618.96 | P69: =IF(D69=$P$6,N69,"") | Q69: =IF(D69=$Q$6,C69,"")
B70: 39262 | C70: 122.65 | D70: =TEXT(B70,"yyy/m") -> 2007/6 | E70: =E69 -> 10000 | F70: =E70/C70 -> 81.532817 | G70: =TEXT($C$2,"yyyy/mm") -> 2002/04 | H70: =TEXT($N$6,"yyyy/mm") -> 2023/04 | I70: =IF(AND(B70>=ドル!$C$2,B70<=ドル!$D$3),E70,0) -> 10000 | J70: =I69+J69 -> 630000 | K70: =IF(AND(B70>=ドル!$C$2,B70<=ドル!$D$3),J70,NA()) -> 630000 | L70: =IF(AND(B70>=ドル!$C$2,B70<=ドル!$D$3),F70,0) -> 81.532817 | M70: =L70+M69 -> 5499.6669 | N70: =IF(AND(B70>=ドル!$C$2,B70<=ドル!$D$3),M70,0) -> 5499.6669 | O70: =IF(C70*N70=0,NA(),C70*N70) -> 674534.15 | P70: =IF(D70=$P$6,N70,"") | Q70: =IF(D70=$Q$6,C70,"")
B71: 39294 | C71: 121.67 | D71: =TEXT(B71,"yyy/m") -> 2007/7 | E71: =E70 -> 10000 | F71: =E71/C71 -> 82.189529 | G71: =TEXT($C$2,"yyyy/mm") -> 2002/04 | H71: =TEXT($N$6,"yyyy/mm") -> 2023/04 | I71: =IF(AND(B71>=ドル!$C$2,B71<=ドル!$D$3),E71,0) -> 10000 | J71: =I70+J70 -> 640000 | K71: =IF(AND(B71>=ドル!$C$2,B71<=ドル!$D$3),J71,NA()) -> 640000 | L71: =IF(AND(B71>=ドル!$C$2,B71<=ドル!$D$3),F71,0) -> 82.189529 | M71: =IFERROR(L71+M70,"") -> 5581.8564 | N71: =IF(AND(B71>=ドル!$C$2,B71<=ドル!$D$3),M71,0) -> 5581.8564 | O71: =IF(C71*N71=0,NA(),C71*N71) -> 679144.47 | P71: =IF(D71=$P$6,N71,"") | Q71: =IF(D71=$Q$6,C71,"")
B72: 39325 | C72: 116.88 | D72: =TEXT(B72,"yyy/m") -> 2007/8 | E72: =E71 -> 10000 | F72: =E72/C72 -> 85.557837 | G72: =TEXT($C$2,"yyyy/mm") -> 2002/04 | H72: =TEXT($N$6,"yyyy/mm") -> 2023/04 | I72: =IF(AND(B72>=ドル!$C$2,B72<=ドル!$D$3),E72,0) -> 10000 | J72: =I71+J71 -> 650000 | K72: =IF(AND(B72>=ドル!$C$2,B72<=ドル!$D$3),J72,NA()) -> 650000 | L72: =IF(AND(B72>=ドル!$C$2,B72<=ドル!$D$3),F72,0) -> 85.557837 | M72: =L72+M71 -> 5667.4143 | N72: =IF(AND(B72>=ドル!$C$2,B72<=ドル!$D$3),M72,0) -> 5667.4143 | O72: =IF(C72*N72=0,NA(),C72*N72) -> 662407.38 | P72: =IF(D72=$P$6,N72,"") | Q72: =IF(D72=$Q$6,C72,"")
B73: 39353 | C73: 115.06 | D73: =TEXT(B73,"yyy/m") -> 2007/9 | E73: =E72 -> 10000 | F73: =E73/C73 -> 86.911177 | G73: =TEXT($C$2,"yyyy/mm") -> 2002/04 | H73: =TEXT($N$6,"yyyy/mm") -> 2023/04 | I73: =IF(AND(B73>=ドル!$C$2,B73<=ドル!$D$3),E73,0) -> 10000 | J73: =I72+J72 -> 660000 | K73: =IF(AND(B73>=ドル!$C$2,B73<=ドル!$D$3),J73,NA()) -> 660000 | L73: =IF(AND(B73>=ドル!$C$2,B73<=ドル!$D$3),F73,0) -> 86.911177 | M73: =L73+M72 -> 5754.3255 | N73: =IF(AND(B73>=ドル!$C$2,B73<=ドル!$D$3),M73,0) -> 5754.3255 | O73: =IF(C73*N73=0,NA(),C73*N73) -> 662092.69 | P73: =IF(D73=$P$6,N73,"") | Q73: =IF(D73=$Q$6,C73,"")
B74: 39386 | C74: 115.8 | D74: =TEXT(B74,"yyy/m") -> 2007/10 | E74: =E73 -> 10000 | F74: =E74/C74 -> 86.355786 | G74: =TEXT($C$2,"yyyy/mm") -> 2002/04 | H74: =TEXT($N$6,"yyyy/mm") -> 2023/04 | I74: =IF(AND(B74>=ドル!$C$2,B74<=ドル!$D$3),E74,0) -> 10000 | J74: =I73+J73 -> 670000 | K74: =IF(AND(B74>=ドル!$C$2,B74<=ドル!$D$3),J74,NA()) -> 670000 | L74: =IF(AND(B74>=ドル!$C$2,B74<=ドル!$D$3),F74,0) -> 86.355786 | M74: =IFERROR(L74+M73,"") -> 5840.6812 | N74: =IF(AND(B74>=ドル!$C$2,B74<=ドル!$D$3),M74,0) -> 5840.6812 | O74: =IF(C74*N74=0,NA(),C74*N74) -> 676350.89 | P74: =IF(D74=$P$6,N74,"") | Q74: =IF(D74=$Q$6,C74,"")
B75: 39416 | C75: 111.34 | D75: =TEXT(B75,"yyy/m") -> 2007/11 | E75: =E74 -> 10000 | F75: =E75/C75 -> 89.814981 | G75: =TEXT($C$2,"yyyy/mm") -> 2002/04 | H75: =TEXT($N$6,"yyyy/mm") -> 2023/04 | I75: =IF(AND(B75>=ドル!$C$2,B75<=ドル!$D$3),E75,0) -> 10000 | J75: =I74+J74 -> 680000 | K75: =IF(AND(B75>=ドル!$C$2,B75<=ドル!$D$3),J75,NA()) -> 680000 | L75: =IF(AND(B75>=ドル!$C$2,B75<=ドル!$D$3),F75,0) -> 89.814981 | M75: =L75+M74 -> 5930.4962 | N75: =IF(AND(B75>=ドル!$C$2,B75<=ドル!$D$3),M75,0) -> 5930.4962 | O75: =IF(C75*N75=0,NA(),C75*N75) -> 660301.45 | P75: =IF(D75=$P$6,N75,"") | Q75: =IF(D75=$Q$6,C75,"")
B76: 39444 | C76: 112.42 | D76: =TEXT(B76,"yyy/m") -> 2007/12 | E76: =E75 -> 10000 | F76: =E76/C76 -> 88.952144 | G76: =TEXT($C$2,"yyyy/mm") -> 2002/04 | H76: =TEXT($N$6,"yyyy/mm") -> 2023/04 | I76: =IF(AND(B76>=ドル!$C$2,B76<=ドル!$D$3),E76,0) -> 10000 | J76: =I75+J75 -> 690000 | K76: =IF(AND(B76>=ドル!$C$2,B76<=ドル!$D$3),J76,NA()) -> 690000 | L76: =IF(AND(B76>=ドル!$C$2,B76<=ドル!$D$3),F76,0) -> 88.952144 | M76: =IFERROR(L76+M75,"") -> 6019.4484 | N76: =IF(AND(B76>=ドル!$C$2,B76<=ドル!$D$3),M76,0) -> 6019.4484 | O76: =IF(C76*N76=0,NA(),C76*N76) -> 676706.39 | P76: =IF(D76=$P$6,N76,"") | Q76: =IF(D76=$Q$6,C76,"")
B77: 39478 | C77: 107.68 | D77: =TEXT(B77,"yyy/m") -> 2008/1 | E77: =E76 -> 10000 | F77: =E77/C77 -> 92.867756 | G77: =TEXT($C$2,"yyyy/mm") -> 2002/04 | H77: =TEXT($N$6,"yyyy/mm") -> 2023/04 | I77: =IF(AND(B77>=ドル!$C$2,B77<=ドル!$D$3),E77,0) -> 10000 | J77: =I76+J76 -> 700000 | K77: =IF(AND(B77>=ドル!$C$2,B77<=ドル!$D$3),J77,NA()) -> 700000 | L77: =IF(AND(B77>=ドル!$C$2,B77<=ドル!$D$3),F77,0) -> 92.867756 | M77: =L77+M76 -> 6112.3161 | N77: =IF(AND(B77>=ドル!$C$2,B77<=ドル!$D$3),M77,0) -> 6112.3161 | O77: =IF(C77*N77=0,NA(),C77*N77) -> 658174.2 | P77: =IF(D77=$P$6,N77,"") | Q77: =IF(D77=$Q$6,C77,"")
B78: 39507 | C78: 107.24 | D78: =TEXT(B78,"yyy/m") -> 2008/2 | E78: =E77 -> 10000 | F78: =E78/C78 -> 93.248788 | G78: =TEXT($C$2,"yyyy/mm") -> 2002/04 | H78: =TEXT($N$6,"yyyy/mm") -> 2023/04 | I78: =IF(AND(B78>=ドル!$C$2,B78<=ドル!$D$3),E78,0) -> 10000 | J78: =I77+J77 -> 710000 | K78: =IF(AND(B78>=ドル!$C$2,B78<=ドル!$D$3),J78,NA()) -> 710000 | L78: =IF(AND(B78>=ドル!$C$2,B78<=ドル!$D$3),F78,0) -> 93.248788 | M78: =IFERROR(L78+M77,"") -> 6205.5649 | N78: =IF(AND(B78>=ドル!$C$2,B78<=ドル!$D$3),M78,0) -> 6205.5649 | O78: =IF(C78*N78=0,NA(),C78*N78) -> 665484.78 | P78: =IF(D78=$P$6,N78,"") | Q78: =IF(D78=$Q$6,C78,"")
B79: 39538 | C79: 100.95 | D79: =TEXT(B79,"yyy/m") -> 2008/3 | E79: =E78 -> 10000 | F79: =E79/C79 -> 99.05894 | G79: =TEXT($C$2,"yyyy/mm") -> 2002/04 | H79: =TEXT($N$6,"yyyy/mm") -> 2023/04 | I79: =IF(AND(B79>=ドル!$C$2,B79<=ドル!$D$3),E79,0) -> 10000 | J79: =I78+J78 -> 720000 | K79: =IF(AND(B79>=ドル!$C$2,B79<=ドル!$D$3),J79,NA()) -> 720000 | L79: =IF(AND(B79>=ドル!$C$2,B79<=ドル!$D$3),F79,0) -> 99.05894 | M79: =L79+M78 -> 6304.6238 | N79: =IF(AND(B79>=ドル!$C$2,B79<=ドル!$D$3),M79,0) -> 6304.6238 | O79: =IF(C79*N79=0,NA(),C79*N79) -> 636451.78 | P79: =IF(D79=$P$6,N79,"") | Q79: =IF(D79=$Q$6,C79,"")
B80: 39568 | C80: 102.52 | D80: =TEXT(B80,"yyy/m") -> 2008/4 | E80: =E79 -> 10000 | F80: =E80/C80 -> 97.541943 | G80: =TEXT($C$2,"yyyy/mm") -> 2002/04 | H80: =TEXT($N$6,"yyyy/mm") -> 2023/04 | I80: =IF(AND(B80>=ドル!$C$2,B80<=ドル!$D$3),E80,0) -> 10000 | J80: =I79+J79 -> 730000 | K80: =IF(AND(B80>=ドル!$C$2,B80<=ドル!$D$3),J80,NA()) -> 730000 | L80: =IF(AND(B80>=ドル!$C$2,B80<=ドル!$D$3),F80,0) -> 97.541943 | M80: =IFERROR(L80+M79,"") -> 6402.1658 | N80: =IF(AND(B80>=ドル!$C$2,B80<=ドル!$D$3),M80,0) -> 6402.1658 | O80: =IF(C80*N80=0,NA(),C80*N80) -> 656350.04 | P80: =IF(D80=$P$6,N80,"") | Q80: =IF(D80=$Q$6,C80,"")
B81: 39598 | C81: 104.21 | D81: =TEXT(B81,"yyy/m") -> 2008/5 | E81: =E80 -> 10000 | F81: =E81/C81 -> 95.960081 | G81: =TEXT($C$2,"yyyy/mm") -> 2002/04 | H81: =TEXT($N$6,"yyyy/mm") -> 2023/04 | I81: =IF(AND(B81>=ドル!$C$2,B81<=ドル!$D$3),E81,0) -> 10000 | J81: =I80+J80 -> 740000 | K81: =IF(AND(B81>=ドル!$C$2,B81<=ドル!$D$3),J81,NA()) -> 740000 | L81: =IF(AND(B81>=ドル!$C$2,B81<=ドル!$D$3),F81,0) -> 95.960081 | M81: =L81+M80 -> 6498.1259 | N81: =IF(AND(B81>=ドル!$C$2,B81<=ドル!$D$3),M81,0) -> 6498.1259 | O81: =IF(C81*N81=0,NA(),C81*N81) -> 677169.7 | P81: =IF(D81=$P$6,N81,"") | Q81: =IF(D81=$Q$6,C81,"")
B82: 39629 | C82: 106.93 | D82: =TEXT(B82,"yyy/m") -> 2008/6 | E82: =E81 -> 10000 | F82: =E82/C82 -> 93.519125 | G82: =TEXT($C$2,"yyyy/mm") -> 2002/04 | H82: =TEXT($N$6,"yyyy/mm") -> 2023/04 | I82: =IF(AND(B82>=ドル!$C$2,B82<=ドル!$D$3),E82,0) -> 10000 | J82: =I81+J81 -> 750000 | K82: =IF(AND(B82>=ドル!$C$2,B82<=ドル!$D$3),J82,NA()) -> 750000 | L82: =IF(AND(B82>=ドル!$C$2,B82<=ドル!$D$3),F82,0) -> 93.519125 | M82: =IFERROR(L82+M81,"") -> 6591.645 | N82: =IF(AND(B82>=ドル!$C$2,B82<=ドル!$D$3),M82,0) -> 6591.645 | O82: =IF(C82*N82=0,NA(),C82*N82) -> 704844.6 | P82: =IF(D82=$P$6,N82,"") | Q82: =IF(D82=$Q$6,C82,"")
B83: 39660 | C83: 106.84 | D83: =TEXT(B83,"yyy/m") -> 2008/7 | E83: =E82 -> 10000 | F83: =E83/C83 -> 93.597903 | G83: =TEXT($C$2,"yyyy/mm") -> 2002/04 | H83: =TEXT($N$6,"yyyy/mm") -> 2023/04 | I83: =IF(AND(B83>=ドル!$C$2,B83<=ドル!$D$3),E83,0) -> 10000 | J83: =I82+J82 -> 760000 | K83: =IF(AND(B83>=ドル!$C$2,B83<=ドル!$D$3),J83,NA()) -> 760000 | L83: =IF(AND(B83>=ドル!$C$2,B83<=ドル!$D$3),F83,0) -> 93.597903 | M83: =L83+M82 -> 6685.2429 | N83: =IF(AND(B83>=ドル!$C$2,B83<=ドル!$D$3),M83,0) -> 6685.2429 | O83: =IF(C83*N83=0,NA(),C83*N83) -> 714251.35 | P83: =IF(D83=$P$6,N83,"") | Q83: =IF(D83=$Q$6,C83,"")
B84: 39689 | C84: 109.34 | D84: =TEXT(B84,"yyy/m") -> 2008/8 | E84: =E83 -> 10000 | F84: =E84/C84 -> 91.457838 | G84: =TEXT($C$2,"yyyy/mm") -> 2002/04 | H84: =TEXT($N$6,"yyyy/mm") -> 2023/04 | I84: =IF(AND(B84>=ドル!$C$2,B84<=ドル!$D$3),E84,0) -> 10000 | J84: =I83+J83 -> 770000 | K84: =IF(AND(B84>=ドル!$C$2,B84<=ドル!$D$3),J84,NA()) -> 770000 | L84: =IF(AND(B84>=ドル!$C$2,B84<=ドル!$D$3),F84,0) -> 91.457838 | M84: =L84+M83 -> 6776.7007 | N84: =IF(AND(B84>=ドル!$C$2,B84<=ドル!$D$3),M84,0) -> 6776.7007 | O84: =IF(C84*N84=0,NA(),C84*N84) -> 740964.46 | P84: =IF(D84=$P$6,N84,"") | Q84: =IF(D84=$Q$6,C84,"")
B85: 39721 | C85: 106.83 | D85: =TEXT(B85,"yyy/m") -> 2008/9 | E85: =E84 -> 10000 | F85: =E85/C85 -> 93.606665 | G85: =TEXT($C$2,"yyyy/mm") -> 2002/04 | H85: =TEXT($N$6,"yyyy/mm") -> 2023/04 | I85: =IF(AND(B85>=ドル!$C$2,B85<=ドル!$D$3),E85,0) -> 10000 | J85: =I84+J84 -> 780000 | K85: =IF(AND(B85>=ドル!$C$2,B85<=ドル!$D$3),J85,NA()) -> 780000 | L85: =IF(AND(B85>=ドル!$C$2,B85<=ドル!$D$3),F85,0) -> 93.606665 | M85: =IFERROR(L85+M84,"") -> 6870.3074 | N85: =IF(AND(B85>=ドル!$C$2,B85<=ドル!$D$3),M85,0) -> 6870.3074 | O85: =IF(C85*N85=0,NA(),C85*N85) -> 733954.94 | P85: =IF(D85=$P$6,N85,"") | Q85: =IF(D85=$Q$6,C85,"")
B86: 39752 | C86: 100.58 | D86: =TEXT(B86,"yyy/m") -> 2008/10 | E86: =E85 -> 10000 | F86: =E86/C86 -> 99.423345 | G86: =TEXT($C$2,"yyyy/mm") -> 2002/04 | H86: =TEXT($N$6,"yyyy/mm") -> 2023/04 | I86: =IF(AND(B86>=ドル!$C$2,B86<=ドル!$D$3),E86,0) -> 10000 | J86: =I85+J85 -> 790000 | K86: =IF(AND(B86>=ドル!$C$2,B86<=ドル!$D$3),J86,NA()) -> 790000 | L86: =IF(AND(B86>=ドル!$C$2,B86<=ドル!$D$3),F86,0) -> 99.423345 | M86: =L86+M85 -> 6969.7307 | N86: =IF(AND(B86>=ドル!$C$2,B86<=ドル!$D$3),M86,0) -> 6969.7307 | O86: =IF(C86*N86=0,NA(),C86*N86) -> 701015.52 | P86: =IF(D86=$P$6,N86,"") | Q86: =IF(D86=$Q$6,C86,"")
B87: 39780 | C87: 96.86 | D87: =TEXT(B87,"yyy/m") -> 2008/11 | E87: =E86 -> 10000 | F87: =E87/C87 -> 103.24179 | G87: =TEXT($C$2,"yyyy/mm") -> 2002/04 | H87: =TEXT($N$6,"yyyy/mm") -> 2023/04 | I87: =IF(AND(B87>=ドル!$C$2,B87<=ドル!$D$3),E87,0) -> 10000 | J87: =I86+J86 -> 800000 | K87: =IF(AND(B87>=ドル!$C$2,B87<=ドル!$D$3),J87,NA()) -> 800000 | L87: =IF(AND(B87>=ドル!$C$2,B87<=ドル!$D$3),F87,0) -> 103.24179 | M87: =IFERROR(L87+M86,"") -> 7072.9725 | N87: =IF(AND(B87>=ドル!$C$2,B87<=ドル!$D$3),M87,0) -> 7072.9725 | O87: =IF(C87*N87=0,NA(),C87*N87) -> 685088.12 | P87: =IF(D87=$P$6,N87,"") | Q87: =IF(D87=$Q$6,C87,"")
B88: 39812 | C88: 91.53 | D88: =TEXT(B88,"yyy/m") -> 2008/12 | E88: =E87 -> 10000 | F88: =E88/C88 -> 109.2538 | G88: =TEXT($C$2,"yyyy/mm") -> 2002/04 | H88: =TEXT($N$6,"yyyy/mm") -> 2023/04 | I88: =IF(AND(B88>=ドル!$C$2,B88<=ドル!$D$3),E88,0) -> 10000 | J88: =I87+J87 -> 810000 | K88: =IF(AND(B88>=ドル!$C$2,B88<=ドル!$D$3),J88,NA()) -> 810000 | L88: =IF(AND(B88>=ドル!$C$2,B88<=ドル!$D$3),F88,0) -> 109.2538 | M88: =L88+M87 -> 7182.2263 | N88: =IF(AND(B88>=ドル!$C$2,B88<=ドル!$D$3),M88,0) -> 7182.2263 | O88: =IF(C88*N88=0,NA(),C88*N88) -> 657389.18 | P88: =IF(D88=$P$6,N88,"") | Q88: =IF(D88=$Q$6,C88,"")
B89: 39843 | C89: 90.43 | D89: =TEXT(B89,"yyy/m") -> 2009/1 | E89: =E88 -> 10000 | F89: =E89/C89 -> 110.58277 | G89: =TEXT($C$2,"yyyy/mm") -> 2002/04 | H89: =TEXT($N$6,"yyyy/mm") -> 2023/04 | I89: =IF(AND(B89>=ドル!$C$2,B89<=ドル!$D$3),E89,0) -> 10000 | J89: =I88+J88 -> 820000 | K89: =IF(AND(B89>=ドル!$C$2,B89<=ドル!$D$3),J89,NA()) -> 820000 | L89: =IF(AND(B89>=ドル!$C$2,B89<=ドル!$D$3),F89,0) -> 110.58277 | M89: =IFERROR(L89+M88,"") -> 7292.8091 | N89: =IF(AND(B89>=ドル!$C$2,B89<=ドル!$D$3),M89,0) -> 7292.8091 | O89: =IF(C89*N89=0,NA(),C89*N89) -> 659488.73 | P89: =IF(D89=$P$6,N89,"") | Q89: =IF(D89=$Q$6,C89,"")
B90: 39871 | C90: 92.45 | D90: =TEXT(B90,"yyy/m") -> 2009/2 | E90: =E89 -> 10000 | F90: =E90/C90 -> 108.16658 | G90: =TEXT($C$2,"yyyy/mm") -> 2002/04 | H90: =TEXT($N$6,"yyyy/mm") -> 2023/04 | I90: =IF(AND(B90>=ドル!$C$2,B90<=ドル!$D$3),E90,0) -> 10000 | J90: =I89+J89 -> 830000 | K90: =IF(AND(B90>=ドル!$C$2,B90<=ドル!$D$3),J90,NA()) -> 830000 | L90: =IF(AND(B90>=ドル!$C$2,B90<=ドル!$D$3),F90,0) -> 108.16658 | M90: =L90+M89 -> 7400.9757 | N90: =IF(AND(B90>=ドル!$C$2,B90<=ドル!$D$3),M90,0) -> 7400.9757 | O90: =IF(C90*N90=0,NA(),C90*N90) -> 684220.2 | P90: =IF(D90=$P$6,N90,"") | Q90: =IF(D90=$Q$6,C90,"")
B91: 39903 | C91: 98 | D91: =TEXT(B91,"yyy/m") -> 2009/3 | E91: =E90 -> 10000 | F91: =E91/C91 -> 102.04082 | G91: =TEXT($C$2,"yyyy/mm") -> 2002/04 | H91: =TEXT($N$6,"yyyy/mm") -> 2023/04 | I91: =IF(AND(B91>=ドル!$C$2,B91<=ドル!$D$3),E91,0) -> 10000 | J91: =I90+J90 -> 840000 | K91: =IF(AND(B91>=ドル!$C$2,B91<=ドル!$D$3),J91,NA()) -> 840000 | L91: =IF(AND(B91>=ドル!$C$2,B91<=ドル!$D$3),F91,0) -> 102.04082 | M91: =IFERROR(L91+M90,"") -> 7503.0165 | N91: =IF(AND(B91>=ドル!$C$2,B91<=ドル!$D$3),M91,0) -> 7503.0165 | O91: =IF(C91*N91=0,NA(),C91*N91) -> 735295.62 | P91: =IF(D91=$P$6,N91,"") | Q91: =IF(D91=$Q$6,C91,"")
B92: 39933 | C92: 99.12 | D92: =TEXT(B92,"yyy/m") -> 2009/4 | E92: =E91 -> 10000 | F92: =E92/C92 -> 100.88781 | G92: =TEXT($C$2,"yyyy/mm") -> 2002/04 | H92: =TEXT($N$6,"yyyy/mm") -> 2023/04 | I92: =IF(AND(B92>=ドル!$C$2,B92<=ドル!$D$3),E92,0) -> 10000 | J92: =I91+J91 -> 850000 | K92: =IF(AND(B92>=ドル!$C$2,B92<=ドル!$D$3),J92,NA()) -> 850000 | L92: =IF(AND(B92>=ドル!$C$2,B92<=ドル!$D$3),F92,0) -> 100.88781 | M92: =L92+M91 -> 7603.9043 | N92: =IF(AND(B92>=ドル!$C$2,B92<=ドル!$D$3),M92,0) -> 7603.9043 | O92: =IF(C92*N92=0,NA(),C92*N92) -> 753699 | P92: =IF(D92=$P$6,N92,"") | Q92: =IF(D92=$Q$6,C92,"")
B93: 39962 | C93: 96.3 | D93: =TEXT(B93,"yyy/m") -> 2009/5 | E93: =E92 -> 10000 | F93: =E93/C93 -> 103.84216 | G93: =TEXT($C$2,"yyyy/mm") -> 2002/04 | H93: =TEXT($N$6,"yyyy/mm") -> 2023/04 | I93: =IF(AND(B93>=ドル!$C$2,B93<=ドル!$D$3),E93,0) -> 10000 | J93: =I92+J92 -> 860000 | K93: =IF(AND(B93>=ドル!$C$2,B93<=ドル!$D$3),J93,NA()) -> 860000 | L93: =IF(AND(B93>=ドル!$C$2,B93<=ドル!$D$3),F93,0) -> 103.84216 | M93: =IFERROR(L93+M92,"") -> 7707.7465 | N93: =IF(AND(B93>=ドル!$C$2,B93<=ドル!$D$3),M93,0) -> 7707.7465 | O93: =IF(C93*N93=0,NA(),C93*N93) -> 742255.99 | P93: =IF(D93=$P$6,N93,"") | Q93: =IF(D93=$Q$6,C93,"")
B94: 39994 | C94: 96.57 | D94: =TEXT(B94,"yyy/m") -> 2009/6 | E94: =E93 -> 10000 | F94: =E94/C94 -> 103.55183 | G94: =TEXT($C$2,"yyyy/mm") -> 2002/04 | H94: =TEXT($N$6,"yyyy/mm") -> 2023/04 | I94: =IF(AND(B94>=ドル!$C$2,B94<=ドル!$D$3),E94,0) -> 10000 | J94: =I93+J93 -> 870000 | K94: =IF(AND(B94>=ドル!$C$2,B94<=ドル!$D$3),J94,NA()) -> 870000 | L94: =IF(AND(B94>=ドル!$C$2,B94<=ドル!$D$3),F94,0) -> 103.55183 | M94: =L94+M93 -> 7811.2983 | N94: =IF(AND(B94>=ドル!$C$2,B94<=ドル!$D$3),M94,0) -> 7811.2983 | O94: =IF(C94*N94=0,NA(),C94*N94) -> 754337.08 | P94: =IF(D94=$P$6,N94,"") | Q94: =IF(D94=$Q$6,C94,"")
B95: 40025 | C95: 94.52 | D95: =TEXT(B95,"yyy/m") -> 2009/7 | E95: =E94 -> 10000 | F95: =E95/C95 -> 105.79771 | G95: =TEXT($C$2,"yyyy/mm") -> 2002/04 | H95: =TEXT($N$6,"yyyy/mm") -> 2023/04 | I95: =IF(AND(B95>=ドル!$C$2,B95<=ドル!$D$3),E95,0) -> 10000 | J95: =I94+J94 -> 880000 | K95: =IF(AND(B95>=ドル!$C$2,B95<=ドル!$D$3),J95,NA()) -> 880000 | L95: =IF(AND(B95>=ドル!$C$2,B95<=ドル!$D$3),F95,0) -> 105.79771 | M95: =L95+M94 -> 7917.096 | N95: =IF(AND(B95>=ドル!$C$2,B95<=ドル!$D$3),M95,0) -> 7917.096 | O95: =IF(C95*N95=0,NA(),C95*N95) -> 748323.92 | P95: =IF(D95=$P$6,N95,"") | Q95: =IF(D95=$Q$6,C95,"")
B96: 40056 | C96: 94.91 | D96: =TEXT(B96,"yyy/m") -> 2009/8 | E96: =E95 -> 10000 | F96: =E96/C96 -> 105.36298 | G96: =TEXT($C$2,"yyyy/mm") -> 2002/04 | H96: =TEXT($N$6,"yyyy/mm") -> 2023/04 | I96: =IF(AND(B96>=ドル!$C$2,B96<=ドル!$D$3),E96,0) -> 10000 | J96: =I95+J95 -> 890000 | K96: =IF(AND(B96>=ドル!$C$2,B96<=ドル!$D$3),J96,NA()) -> 890000 | L96: =IF(AND(B96>=ドル!$C$2,B96<=ドル!$D$3),F96,0) -> 105.36298 | M96: =IFERROR(L96+M95,"") -> 8022.459 | N96: =IF(AND(B96>=ドル!$C$2,B96<=ドル!$D$3),M96,0) -> 8022.459 | O96: =IF(C96*N96=0,NA(),C96*N96) -> 761411.58 | P96: =IF(D96=$P$6,N96,"") | Q96: =IF(D96=$Q$6,C96,"")
B97: 40086 | C97: 91.55 | D97: =TEXT(B97,"yyy/m") -> 2009/9 | E97: =E96 -> 10000 | F97: =E97/C97 -> 109.22993 | G97: =TEXT($C$2,"yyyy/mm") -> 2002/04 | H97: =TEXT($N$6,"yyyy/mm") -> 2023/04 | I97: =IF(AND(B97>=ドル!$C$2,B97<=ドル!$D$3),E97,0) -> 10000 | J97: =I96+J96 -> 900000 | K97: =IF(AND(B97>=ドル!$C$2,B97<=ドル!$D$3),J97,NA()) -> 900000 | L97: =IF(AND(B97>=ドル!$C$2,B97<=ドル!$D$3),F97,0) -> 109.22993 | M97: =L97+M96 -> 8131.6889 | N97: =IF(AND(B97>=ドル!$C$2,B97<=ドル!$D$3),M97,0) -> 8131.6889 | O97: =IF(C97*N97=0,NA(),C97*N97) -> 744456.12 | P97: =IF(D97=$P$6,N97,"") | Q97: =IF(D97=$Q$6,C97,"")
B98: 40116 | C98: 90.36 | D98: =TEXT(B98,"yyy/m") -> 2009/10 | E98: =E97 -> 10000 | F98: =E98/C98 -> 110.66844 | G98: =TEXT($C$2,"yyyy/mm") -> 2002/04 | H98: =TEXT($N$6,"yyyy/mm") -> 2023/04 | I98: =IF(AND(B98>=ドル!$C$2,B98<=ドル!$D$3),E98,0) -> 10000 | J98: =I97+J97 -> 910000 | K98: =IF(AND(B98>=ドル!$C$2,B98<=ドル!$D$3),J98,NA()) -> 910000 | L98: =IF(AND(B98>=ドル!$C$2,B98<=ドル!$D$3),F98,0) -> 110.66844 | M98: =IFERROR(L98+M97,"") -> 8242.3574 | N98: =IF(AND(B98>=ドル!$C$2,B98<=ドル!$D$3),M98,0) -> 8242.3574 | O98: =IF(C98*N98=0,NA(),C98*N98) -> 744779.41 | P98: =IF(D98=$P$6,N98,"") | Q98: =IF(D98=$Q$6,C98,"")
B99: 40147 | C99: 89.22 | D99: =TEXT(B99,"yyy/m") -> 2009/11 | E99: =E98 -> 10000 | F99: =E99/C99 -> 112.08249 | G99: =TEXT($C$2,"yyyy/mm") -> 2002/04 | H99: =TEXT($N$6,"yyyy/mm") -> 2023/04 | I99: =IF(AND(B99>=ドル!$C$2,B99<=ドル!$D$3),E99,0) -> 10000 | J99: =I98+J98 -> 920000 | K99: =IF(AND(B99>=ドル!$C$2,B99<=ドル!$D$3),J99,NA()) -> 920000 | L99: =IF(AND(B99>=ドル!$C$2,B99<=ドル!$D$3),F99,0) -> 112.08249 | M99: =L99+M98 -> 8354.4398 | N99: =IF(AND(B99>=ドル!$C$2,B99<=ドル!$D$3),M99,0) -> 8354.4398 | O99: =IF(C99*N99=0,NA(),C99*N99) -> 745383.12 | P99: =IF(D99=$P$6,N99,"") | Q99: =IF(D99=$Q$6,C99,"")
B100: 40177 | C100: 89.57 | D100: =TEXT(B100,"yyy/m") -> 2009/12 | E100: =E99 -> 10000 | F100: =E100/C100 -> 111.64452 | G100: =TEXT($C$2,"yyyy/mm") -> 2002/04 | H100: =TEXT($N$6,"yyyy/mm") -> 2023/04 | I100: =IF(AND(B100>=ドル!$C$2,B100<=ドル!$D$3),E100,0) -> 10000 | J100: =I99+J99 -> 930000 | K100: =IF(AND(B100>=ドル!$C$2,B100<=ドル!$D$3),J100,NA()) -> 930000 | L100: =IF(AND(B100>=ドル!$C$2,B100<=ドル!$D$3),F100,0) -> 111.64452 | M100: =IFERROR(L100+M99,"") -> 8466.0844 | N100: =IF(AND(B100>=ドル!$C$2,B100<=ドル!$D$3),M100,0) -> 8466.0844 | O100: =IF(C100*N100=0,NA(),C100*N100) -> 758307.18 | P100: =IF(D100=$P$6,N100,"") | Q100: =IF(D100=$Q$6,C100,"")
B101: 40207 | C101: 91.23 | D101: =TEXT(B101,"yyy/m") -> 2010/1 | E101: =E100 -> 10000 | F101: =E101/C101 -> 109.61307 | G101: =TEXT($C$2,"yyyy/mm") -> 2002/04 | H101: =TEXT($N$6,"yyyy/mm") -> 2023/04 | I101: =IF(AND(B101>=ドル!$C$2,B101<=ドル!$D$3),E101,0) -> 10000 | J101: =I100+J100 -> 940000 | K101: =IF(AND(B101>=ドル!$C$2,B101<=ドル!$D$3),J101,NA()) -> 940000 | L101: =IF(AND(B101>=ドル!$C$2,B101<=ドル!$D$3),F101,0) -> 109.61307 | M101: =L101+M100 -> 8575.6974 | N101: =IF(AND(B101>=ドル!$C$2,B101<=ドル!$D$3),M101,0) -> 8575.6974 | O101: =IF(C101*N101=0,NA(),C101*N101) -> 782360.88 | P101: =IF(D101=$P$6,N101,"") | Q101: =IF(D101=$Q$6,C101,"")
...

Sheet 複利（計算）
D2: 年利 | E2: =複利!C2 -> 5 | F2: %
D3: 毎月積立額 | E3: =複利!C3 -> 10000 | F3: 円
D4: 年間積立額 | E4: =複利!C4 -> 120000 | F4: 円
B7: 月数 | D7: 積立額合計 | E7: 利率 | F7: 複利
F8: 元利合計 | G8: 利息
B9: 1 | C9: =E3 -> 10000 | D9: =C9*12*B9 -> 120000 | E9: =E2/100 -> 0.05 | F9: =FV(E9/12,B9*12,-C9,0,0) -> 122788.55 | G9: =F9-D9 -> 2788.5549
B10: 2 | C10: =C9 -> 10000 | D10: =C10*12*B10 -> 240000 | E10: =E9 -> 0.05 | F10: =FV(E10/12,B10*12,-C10,0,0) -> 251859.21 | G10: =F10-D10 -> 11859.205
B11: 3 | C11: =C10 -> 10000 | D11: =C11*12*B11 -> 360000 | E11: =E10 -> 0.05 | F11: =FV(E11/12,B11*12,-C11,0,0) -> 387533.36 | G11: =F11-D11 -> 27533.355
B12: 4 | C12: =C11 -> 10000 | D12: =C12*12*B12 -> 480000 | E12: =E11 -> 0.05 | F12: =FV(E12/12,B12*12,-C12,0,0) -> 530148.85 | G12: =F12-D12 -> 50148.852
B13: 5 | C13: =C12 -> 10000 | D13: =C13*12*B13 -> 600000 | E13: =E12 -> 0.05 | F13: =FV(E13/12,B13*12,-C13,0,0) -> 680060.83 | G13: =F13-D13 -> 80060.828
B14: 6 | C14: =C13 -> 10000 | D14: =C14*12*B14 -> 720000 | E14: =E13 -> 0.05 | F14: =FV(E14/12,B14*12,-C14,0,0) -> 837642.59 | G14: =F14-D14 -> 117642.59
B15: 7 | C15: =C14 -> 10000 | D15: =C15*12*B15 -> 840000 | E15: =E14 -> 0.05 | F15: =FV(E15/12,B15*12,-C15,0,0) -> 1003286.5 | G15: =F15-D15 -> 163286.53
B16: 8 | C16: =C15 -> 10000 | D16: =C16*12*B16 -> 960000 | E16: =E15 -> 0.05 | F16: =FV(E16/12,B16*12,-C16,0,0) -> 1177405.1 | G16: =F16-D16 -> 217405.12
B17: 9 | C17: =C16 -> 10000 | D17: =C17*12*B17 -> 1080000 | E17: =E16 -> 0.05 | F17: =FV(E17/12,B17*12,-C17,0,0) -> 1360432 | G17: =F17-D17 -> 280431.96
B18: 10 | C18: =C17 -> 10000 | D18: =C18*12*B18 -> 1200000 | E18: =E17 -> 0.05 | F18: =FV(E18/12,B18*12,-C18,0,0) -> 1552822.8 | G18: =F18-D18 -> 352822.79
B19: 11 | C19: =C18 -> 10000 | D19: =C19*12*B19 -> 1320000 | E19: =E18 -> 0.05 | F19: =FV(E19/12,B19*12,-C19,0,0) -> 1755056.7 | G19: =F19-D19 -> 435056.71
B20: 12 | C20: =C19 -> 10000 | D20: =C20*12*B20 -> 1440000 | E20: =E19 -> 0.05 | F20: =FV(E20/12,B20*12,-C20,0,0) -> 1967637.3 | G20: =F20-D20 -> 527637.3
B21: 13 | C21: =C20 -> 10000 | D21: =C21*12*B21 -> 1560000 | E21: =E20 -> 0.05 | F21: =FV(E21/12,B21*12,-C21,0,0) -> 2191093.9 | G21: =F21-D21 -> 631093.91
... B38: 30 | C38: =C37 -> 10000 | D38: =C38*12*B38 -> 3600000 | E38: =E37 -> 0.05 | F38: =FV(E38/12,B38*12,-C38,0,0) -> 8322586.4 | G38: =F38-D38 -> 4722586.4
