Workbook

Sheet 日経平均
B2: 開始 | C2: 36526 | E2: 月々積立額 | F2: 10000 | H2: 終了時評価 | I2: ='日経平均（データ）'!Q5 -> 29388.3
B3: 終了 | C3: 45047 | D3: =DATE(YEAR(C3),MONTH(C3)+1,DAY(C3)) -> 45078 | E3: 積立総額 | F3: =F2*日経平均!C4 -> 2800000 | H3: 評価額 | I3: =F4*I2 -> 5907129.4
B4: 期間 | C4: =DATEDIF(C2,C3,"M") -> 280 | E4: 合計購入ドル | F4: ='日経平均（データ）'!P5 -> 201.00276 | H4: 利回り | I4: =RATE(日経平均!C4,-1*日経平均!F2,0,I3)*12 -> 0.057935571
B5: ＊「開始」は2000年1月以降で入力して下さい。
B6: ＊「終了」は2023年5月までで入力して下さい。
B7: ＊「開始」「終了」の入力は2010年1月の場合2010/1/1と入力して下さい。
B36: ＊毎月の月中平均のデータを集計しています。
B37: ＊参考データ： | C37: 日経の指数公式サイト

Sheet 複利
B2: 年利 | C2: 5 | D2: % | G2: 5 | H2: 10 | I2: 15 | J2: 20 | K2: 25 | L2: 30
B3: 毎月積立額 | C3: 10000 | D3: 円 | F3: 元本 | G3: =$C$3*12*G2 -> 600000 | H3: =$C$3*12*H2 -> 1200000 | I3: =$C$3*12*I2 -> 1800000 | J3: =$C$3*12*J2 -> 2400000 | K3: =$C$3*12*K2 -> 3000000 | L3: =$C$3*12*L2 -> 3600000
B4: 年間積立額 | C4: =C3*12 -> 120000 | D4: 円 | F4: 評価 | G4: ='複利（計算）'!F13 -> 680060.83 | H4: ='複利（計算）'!F18 -> 1552822.8 | I4: ='複利（計算）'!F23 -> 2672889.4 | J4: ='複利（計算）'!F28 -> 4110336.7 | K4: ='複利（計算）'!F33 -> 5955097.1 | L4: ='複利（計算）'!F38 -> 8322586.4
F5: 増加率 | G5: =G4/G3 -> 1.1334347 | H5: =H4/H3 -> 1.294019 | I5: =I4/I3 -> 1.4849386 | J5: =J4/J3 -> 1.7126403 | K5: =K4/K3 -> 1.9850324 | L5: =L4/L3 -> 2.3118295
F6: 増減額 | G6: =G4-G3 -> 80060.828 | H6: =H4-H3 -> 352822.79 | I6: =I4-I3 -> 872889.44 | J6: =J4-J3 -> 1710336.7 | K6: =K4-K3 -> 2955097.1 | L6: =L4-L3 -> 4722586.4

Sheet 日経平均（データ）
B2: 開始 | C2: =日経平均!C2 -> 36526 | F2: 月々積立額 | G2: =日経平均!F2 -> 10000
B3: 終了 | C3: =TEXT(日経平均!C3,"yyyy/mm") -> 2023/05 | F3: 積立額総額 | G3: =日経平均!F3 -> 2800000
B4: 期間 | C4: =日経平均!C4 -> 280 | F4: 合計口数 | G4: =日経平均!F4 -> 201.00276
P5: =SUM(P8:P301) -> 201.00276 | Q5: =SUM(Q8:Q301) -> 29388.3
N6: =EDATE(C3,1) -> 45078 | P6: =TEXT(日経平均!$C$3,"yyy/m") -> 2023/5 | Q6: =TEXT(日経平均!$C$3,"yyy/m") -> 2023/5
B7: 日付 | C7: 終値 | D7: 日付変更 | E7: 月々積立 | F7: 購入口数 | G7: 開始 | H7: 終了 | I7: 積立金 | J7: 積立金合計① | K7: 積立金合計② | L7: 購入口数 | M7: 購入口数合計① | N7: 購入口数合計② | O7: 計算基準時評価 | P7: 合計購入口数 | Q7: 終了時評価
B8: 36526 | C8: 19539.7 | D8: =TEXT(B8,"yyy/m") -> 2000/1 | E8: =G2 -> 10000 | F8: =E8/C8 -> 0.51177858 | G8: =TEXT($C$2,"yyyy/mm") -> 2000/01 | H8: =TEXT($N$6,"yyyy/mm") -> 2023/06 | I8: =IF(AND(B8>=日経平均!$C$2,B8<日経平均!$D$3),E8,0) -> 10000 | J8: =I8 -> 10000 | K8: =IF(AND(B8>=日経平均!$C$2,B8<日経平均!$D$3),J8,NA()) -> 10000 | L8: =IF(AND(B8>=日経平均!$C$2,B8<=日経平均!$D$3),F8,0) -> 0.51177858 | M8: =L8 -> 0.51177858 | N8: =IF(AND(B8>=日経平均!$C$2,B8<日経平均!$D$3),M8,0) -> 0.51177858 | O8: =IF(C8*N8=0,NA(),C8*N8) -> 10000 | P8: =IF(D8=$P$6,N8,"") | Q8: =IF(D8=$Q$6,C8,"")
B9: 36557 | C9: 19959.52 | D9: =TEXT(B9,"yyy/m") -> 2000/2 | E9: =E8 -> 10000 | F9: =E9/C9 -> 0.50101405 | G9: =TEXT($C$2,"yyyy/mm") -> 2000/01 | H9: =TEXT($N$6,"yyyy/mm") -> 2023/06 | I9: =IF(AND(B9>=日経平均!$C$2,B9<日経平均!$D$3),E9,0) -> 10000 | J9: =I8+J8 -> 20000 | K9: =IF(AND(B9>=日経平均!$C$2,B9<日経平均!$D$3),J9,NA()) -> 20000 | L9: =IF(AND(B9>=日経平均!$C$2,B9<=日経平均!$D$3),F9,0) -> 0.50101405 | M9: =L9+M8 -> 1.0127926 | N9: =IF(AND(B9>=日経平均!$C$2,B9<日経平均!$D$3),M9,0) -> 1.0127926 | O9: =IF(C9*N9=0,NA(),C9*N9) -> 20214.855 | P9: =IF(D9=$P$6,N9,"") | Q9: =IF(D9=$Q$6,C9,"")
B10: 36586 | C10: 20337.32 | D10: =TEXT(B10,"yyy/m") -> 2000/3 | E10: =E9 -> 10000 | F10: =E10/C10 -> 0.49170687 | G10: =TEXT($C$2,"yyyy/mm") -> 2000/01 | H10: =TEXT($N$6,"yyyy/mm") -> 2023/06 | I10: =IF(AND(B10>=日経平均!$C$2,B10<日経平均!$D$3),E10,0) -> 10000 | J10: =I9+J9 -> 30000 | K10: =IF(AND(B10>=日経平均!$C$2,B10<日経平均!$D$3),J10,NA()) -> 30000 | L10: =IF(AND(B10>=日経平均!$C$2,B10<=日経平均!$D$3),F10,0) -> 0.49170687 | M10: =L10+M9 -> 1.5044995 | N10: =IF(AND(B10>=日経平均!$C$2,B10<日経平均!$D$3),M10,0) -> 1.5044995 | O10: =IF(C10*N10=0,NA(),C10*N10) -> 30597.488 | P10: =IF(D10=$P$6,N10,"") | Q10: =IF(D10=$Q$6,C10,"")
B11: 36617 | C11: 17973.7 | D11: =TEXT(B11,"yyy/m") -> 2000/4 | E11: =E10 -> 10000 | F11: =E11/C11 -> 0.55636847 | G11: =TEXT($C$2,"yyyy/mm") -> 2000/01 | H11: =TEXT($N$6,"yyyy/mm") -> 2023/06 | I11: =IF(AND(B11>=日経平均!$C$2,B11<日経平均!$D$3),E11,0) -> 10000 | J11: =I10+J10 -> 40000 | K11: =IF(AND(B11>=日経平均!$C$2,B11<日経平均!$D$3),J11,NA()) -> 40000 | L11: =IF(AND(B11>=日経平均!$C$2,B11<=日経平均!$D$3),F11,0) -> 0.55636847 | M11: =L11+M10 -> 2.060868 | N11: =IF(AND(B11>=日経平均!$C$2,B11<日経平均!$D$3),M11,0) -> 2.060868 | O11: =IF(C11*N11=0,NA(),C11*N11) -> 37041.423 | P11: =IF(D11=$P$6,N11,"") | Q11: =IF(D11=$Q$6,C11,"")
B12: 36647 | C12: 16332.45 | D12: =TEXT(B12,"yyy/m") -> 2000/5 | E12: =E11 -> 10000 | F12: =E12/C12 -> 0.61227801 | G12: =TEXT($C$2,"yyyy/mm") -> 2000/01 | H12: =TEXT($N$6,"yyyy/mm") -> 2023/06 | I12: =IF(AND(B12>=日経平均!$C$2,B12<日経平均!$D$3),E12,0) -> 10000 | J12: =I11+J11 -> 50000 | K12: =IF(AND(B12>=日経平均!$C$2,B12<日経平均!$D$3),J12,NA()) -> 50000 | L12: =IF(AND(B12>=日経平均!$C$2,B12<=日経平均!$D$3),F12,0) -> 0.61227801 | M12: =L12+M11 -> 2.673146 | N12: =IF(AND(B12>=日経平均!$C$2,B12<日経平均!$D$3),M12,0) -> 2.673146 | O12: =IF(C12*N12=0,NA(),C12*N12) -> 43659.023 | P12: =IF(D12=$P$6,N12,"") | Q12: =IF(D12=$Q$6,C12,"")
B13: 36678 | C13: 17411.05 | D13: =TEXT(B13,"yyy/m") -> 2000/6 | E13: =E12 -> 10000 | F13: =E13/C13 -> 0.5743479 | G13: =TEXT($C$2,"yyyy/mm") -> 2000/01 | H13: =TEXT($N$6,"yyyy/mm") -> 2023/06 | I13: =IF(AND(B13>=日経平均!$C$2,B13<日経平均!$D$3),E13,0) -> 10000 | J13: =I12+J12 -> 60000 | K13: =IF(AND(B13>=日経平均!$C$2,B13<日経平均!$D$3),J13,NA()) -> 60000 | L13: =IF(AND(B13>=日経平均!$C$2,B13<=日経平均!$D$3),F13,0) -> 0.5743479 | M13: =L13+M12 -> 3.2474939 | N13: =IF(AND(B13>=日経平均!$C$2,B13<日経平均!$D$3),M13,0) -> 3.2474939 | O13: =IF(C13*N13=0,NA(),C13*N13) -> 56542.279 | P13: =IF(D13=$P$6,N13,"") | Q13: =IF(D13=$Q$6,C13,"")
B14: 36708 | C14: 15727.49 | D14: =TEXT(B14,"yyy/m") -> 2000/7 | E14: =E13 -> 10000 | F14: =E14/C14 -> 0.63582937 | G14: =TEXT($C$2,"yyyy/mm") -> 2000/01 | H14: =TEXT($N$6,"yyyy/mm") -> 2023/06 | I14: =IF(AND(B14>=日経平均!$C$2,B14<日経平均!$D$3),E14,0) -> 10000 | J14: =I13+J13 -> 70000 | K14: =IF(AND(B14>=日経平均!$C$2,B14<日経平均!$D$3),J14,NA()) -> 70000 | L14: =IF(AND(B14>=日経平均!$C$2,B14<=日経平均!$D$3),F14,0) -> 0.63582937 | M14: =L14+M13 -> 3.8833233 | N14: =IF(AND(B14>=日経平均!$C$2,B14<日経平均!$D$3),M14,0) -> 3.8833233 | O14: =IF(C14*N14=0,NA(),C14*N14) -> 61074.928 | P14: =IF(D14=$P$6,N14,"") | Q14: =IF(D14=$Q$6,C14,"")
B15: 36739 | C15: 16861.26 | D15: =TEXT(B15,"yyy/m") -> 2000/8 | E15: =E14 -> 10000 | F15: =E15/C15 -> 0.59307549 | G15: =TEXT($C$2,"yyyy/mm") -> 2000/01 | H15: =TEXT($N$6,"yyyy/mm") -> 2023/06 | I15: =IF(AND(B15>=日経平均!$C$2,B15<日経平均!$D$3),E15,0) -> 10000 | J15: =I14+J14 -> 80000 | K15: =IF(AND(B15>=日経平均!$C$2,B15<日経平均!$D$3),J15,NA()) -> 80000 | L15: =IF(AND(B15>=日経平均!$C$2,B15<=日経平均!$D$3),F15,0) -> 0.59307549 | M15: =L15+M14 -> 4.4763987 | N15: =IF(AND(B15>=日経平均!$C$2,B15<日経平均!$D$3),M15,0) -> 4.4763987 | O15: =IF(C15*N15=0,NA(),C15*N15) -> 75477.723 | P15: =IF(D15=$P$6,N15,"") | Q15: =IF(D15=$Q$6,C15,"")
B16: 36770 | C16: 15747.26 | D16: =TEXT(B16,"yyy/m") -> 2000/9 | E16: =E15 -> 10000 | F16: =E16/C16 -> 0.63503111 | G16: =TEXT($C$2,"yyyy/mm") -> 2000/01 | H16: =TEXT($N$6,"yyyy/mm") -> 2023/06 | I16: =IF(AND(B16>=日経平均!$C$2,B16<日経平均!$D$3),E16,0) -> 10000 | J16: =I15+J15 -> 90000 | K16: =IF(AND(B16>=日経平均!$C$2,B16<日経平均!$D$3),J16,NA()) -> 90000 | L16: =IF(AND(B16>=日経平均!$C$2,B16<=日経平均!$D$3),F16,0) -> 0.63503111 | M16: =L16+M15 -> 5.1114299 | N16: =IF(AND(B16>=日経平均!$C$2,B16<日経平均!$D$3),M16,0) -> 5.1114299 | O16: =IF(C16*N16=0,NA(),C16*N16) -> 80491.015 | P16: =IF(D16=$P$6,N16,"") | Q16: =IF(D16=$Q$6,C16,"")
B17: 36800 | C17: 14539.6 | D17: =TEXT(B17,"yyy/m") -> 2000/10 | E17: =E16 -> 10000 | F17: =E17/C17 -> 0.68777683 | G17: =TEXT($C$2,"yyyy/mm") -> 2000/01 | H17: =TEXT($N$6,"yyyy/mm") -> 2023/06 | I17: =IF(AND(B17>=日経平均!$C$2,B17<日経平均!$D$3),E17,0) -> 10000 | J17: =I16+J16 -> 100000 | K17: =IF(AND(B17>=日経平均!$C$2,B17<日経平均!$D$3),J17,NA()) -> 100000 | L17: =IF(AND(B17>=日経平均!$C$2,B17<=日経平均!$D$3),F17,0) -> 0.68777683 | M17: =L17+M16 -> 5.7992067 | N17: =IF(AND(B17>=日経平均!$C$2,B17<日経平均!$D$3),M17,0) -> 5.7992067 | O17: =IF(C17*N17=0,NA(),C17*N17) -> 84318.146 | P17: =IF(D17=$P$6,N17,"") | Q17: =IF(D17=$Q$6,C17,"")
B18: 36831 | C18: 14648.51 | D18: =TEXT(B18,"yyy/m") -> 2000/11 | E18: =E17 -> 10000 | F18: =E18/C18 -> 0.68266329 | G18: =TEXT($C$2,"yyyy/mm") -> 2000/01 | H18: =TEXT($N$6,"yyyy/mm") -> 2023/06 | I18: =IF(AND(B18>=日経平均!$C$2,B18<日経平均!$D$3),E18,0) -> 10000 | J18: =I17+J17 -> 110000 | K18: =IF(AND(B18>=日経平均!$C$2,B18<日経平均!$D$3),J18,NA()) -> 110000 | L18: =IF(AND(B18>=日経平均!$C$2,B18<=日経平均!$D$3),F18,0) -> 0.68266329 | M18: =L18+M17 -> 6.48187 | N18: =IF(AND(B18>=日経平均!$C$2,B18<日経平均!$D$3),M18,0) -> 6.48187 | O18: =IF(C18*N18=0,NA(),C18*N18) -> 94949.737 | P18: =IF(D18=$P$6,N18,"") | Q18: =IF(D18=$Q$6,C18,"")
B19: 36861 | C19: 13785.69 | D19: =TEXT(B19,"yyy/m") -> 2000/12 | E19: =E18 -> 10000 | F19: =E19/C19 -> 0.72538988 | G19: =TEXT($C$2,"yyyy/mm") -> 2000/01 | H19: =TEXT($N$6,"yyyy/mm") -> 2023/06 | I19: =IF(AND(B19>=日経平均!$C$2,B19<日経平均!$D$3),E19,0) -> 10000 | J19: =I18+J18 -> 120000 | K19: =IF(AND(B19>=日経平均!$C$2,B19<日経平均!$D$3),J19,NA()) -> 120000 | L19: =IF(AND(B19>=日経平均!$C$2,B19<=日経平均!$D$3),F19,0) -> 0.72538988 | M19: =IFERROR(L19+M18,"") -> 7.2072599 | N19: =IF(AND(B19>=日経平均!$C$2,B19<日経平均!$D$3),M19,0) -> 7.2072599 | O19: =IF(C19*N19=0,NA(),C19*N19) -> 99357.05 | P19: =IF(D19=$P$6,N19,"") | Q19: =IF(D19=$Q$6,C19,"")
B20: 36892 | C20: 13843.55 | D20: =TEXT(B20,"yyy/m") -> 2001/1 | E20: =E19 -> 10000 | F20: =E20/C20 -> 0.72235807 | G20: =TEXT($C$2,"yyyy/mm") -> 2000/01 | H20: =TEXT($N$6,"yyyy/mm") -> 2023/06 | I20: =IF(AND(B20>=日経平均!$C$2,B20<日経平均!$D$3),E20,0) -> 10000 | J20: =I19+J19 -> 130000 | K20: =IF(AND(B20>=日経平均!$C$2,B20<日経平均!$D$3),J20,NA()) -> 130000 | L20: =IF(AND(B20>=日経平均!$C$2,B20<=日経平均!$D$3),F20,0) -> 0.72235807 | M20: =L20+M19 -> 7.9296179 | N20: =IF(AND(B20>=日経平均!$C$2,B20<日経平均!$D$3),M20,0) -> 7.9296179 | O20: =IF(C20*N20=0,NA(),C20*N20) -> 109774.06 | P20: =IF(D20=$P$6,N20,"") | Q20: =IF(D20=$Q$6,C20,"")
B21: 36923 | C21: 12883.54 | D21: =TEXT(B21,"yyy/m") -> 2001/2 | E21: =E20 -> 10000 | F21: =E21/C21 -> 0.77618419 | G21: =TEXT($C$2,"yyyy/mm") -> 2000/01 | H21: =TEXT($N$6,"yyyy/mm") -> 2023/06 | I21: =IF(AND(B21>=日経平均!$C$2,B21<日経平均!$D$3),E21,0) -> 10000 | J21: =I20+J20 -> 140000 | K21: =IF(AND(B21>=日経平均!$C$2,B21<日経平均!$D$3),J21,NA()) -> 140000 | L21: =IF(AND(B21>=日経平均!$C$2,B21<=日経平均!$D$3),F21,0) -> 0.77618419 | M21: =IFERROR(L21+M20,"") -> 8.7058021 | N21: =IF(AND(B21>=日経平均!$C$2,B21<日経平均!$D$3),M21,0) -> 8.7058021 | O21: =IF(C21*N21=0,NA(),C21*N21) -> 112161.55 | P21: =IF(D21=$P$6,N21,"") | Q21: =IF(D21=$Q$6,C21,"")
B22: 36951 | C22: 12999.7 | D22: =TEXT(B22,"yyy/m") -> 2001/3 | E22: =E21 -> 10000 | F22: =E22/C22 -> 0.76924852 | G22: =TEXT($C$2,"yyyy/mm") -> 2000/01 | H22: =TEXT($N$6,"yyyy/mm") -> 2023/06 | I22: =IF(AND(B22>=日経平均!$C$2,B22<日経平均!$D$3),E22,0) -> 10000 | J22: =I21+J21 -> 150000 | K22: =IF(AND(B22>=日経平均!$C$2,B22<日経平均!$D$3),J22,NA()) -> 150000 | L22: =IF(AND(B22>=日経平均!$C$2,B22<=日経平均!$D$3),F22,0) -> 0.76924852 | M22: =L22+M21 -> 9.4750506 | N22: =IF(AND(B22>=日経平均!$C$2,B22<日経平均!$D$3),M22,0) -> 9.4750506 | O22: =IF(C22*N22=0,NA(),C22*N22) -> 123172.82 | P22: =IF(D22=$P$6,N22,"") | Q22: =IF(D22=$Q$6,C22,"")
B23: 36982 | C23: 13934.32 | D23: =TEXT(B23,"yyy/m") -> 2001/4 | E23: =E22 -> 10000 | F23: =E23/C23 -> 0.71765253 | G23: =TEXT($C$2,"yyyy/mm") -> 2000/01 | H23: =TEXT($N$6,"yyyy/mm") -> 2023/06 | I23: =IF(AND(B23>=日経平均!$C$2,B23<日経平均!$D$3),E23,0) -> 10000 | J23: =I22+J22 -> 160000 | K23: =IF(AND(B23>=日経平均!$C$2,B23<日経平均!$D$3),J23,NA()) -> 160000 | L23: =IF(AND(B23>=日経平均!$C$2,B23<=日経平均!$D$3),F23,0) -> 0.71765253 | M23: =IFERROR(L23+M22,"") -> 10.192703 | N23: =IF(AND(B23>=日経平均!$C$2,B23<日経平均!$D$3),M23,0) -> 10.192703 | O23: =IF(C23*N23=0,NA(),C23*N23) -> 142028.39 | P23: =IF(D23=$P$6,N23,"") | Q23: =IF(D23=$Q$6,C23,"")
B24: 37012 | C24: 13262.14 | D24: =TEXT(B24,"yyy/m") -> 2001/5 | E24: =E23 -> 10000 | F24: =E24/C24 -> 0.75402612 | G24: =TEXT($C$2,"yyyy/mm") -> 2000/01 | H24: =TEXT($N$6,"yyyy/mm") -> 2023/06 | I24: =IF(AND(B24>=日経平均!$C$2,B24<日経平均!$D$3),E24,0) -> 10000 | J24: =I23+J23 -> 170000 | K24: =IF(AND(B24>=日経平均!$C$2,B24<日経平均!$D$3),J24,NA()) -> 170000 | L24: =IF(AND(B24>=日経平均!$C$2,B24<=日経平均!$D$3),F24,0) -> 0.75402612 | M24: =L24+M23 -> 10.946729 | N24: =IF(AND(B24>=日経平均!$C$2,B24<日経平均!$D$3),M24,0) -> 10.946729 | O24: =IF(C24*N24=0,NA(),C24*N24) -> 145177.06 | P24: =IF(D24=$P$6,N24,"") | Q24: =IF(D24=$Q$6,C24,"")
B25: 37043 | C25: 12969.05 | D25: =TEXT(B25,"yyy/m") -> 2001/6 | E25: =E24 -> 10000 | F25: =E25/C25 -> 0.7710665 | G25: =TEXT($C$2,"yyyy/mm") -> 2000/01 | H25: =TEXT($N$6,"yyyy/mm") -> 2023/06 | I25: =IF(AND(B25>=日経平均!$C$2,B25<日経平均!$D$3),E25,0) -> 10000 | J25: =I24+J24 -> 180000 | K25: =IF(AND(B25>=日経平均!$C$2,B25<日経平均!$D$3),J25,NA()) -> 180000 | L25: =IF(AND(B25>=日経平均!$C$2,B25<=日経平均!$D$3),F25,0) -> 0.7710665 | M25: =IFERROR(L25+M24,"") -> 11.717796 | N25: =IF(AND(B25>=日経平均!$C$2,B25<日経平均!$D$3),M25,0) -> 11.717796 | O25: =IF(C25*N25=0,NA(),C25*N25) -> 151968.68 | P25: =IF(D25=$P$6,N25,"") | Q25: =IF(D25=$Q$6,C25,"")
B26: 37073 | C26: 11860.77 | D26: =TEXT(B26,"yyy/m") -> 2001/7 | E26: =E25 -> 10000 | F26: =E26/C26 -> 0.84311558 | G26: =TEXT($C$2,"yyyy/mm") -> 2000/01 | H26: =TEXT($N$6,"yyyy/mm") -> 2023/06 | I26: =IF(AND(B26>=日経平均!$C$2,B26<日経平均!$D$3),E26,0) -> 10000 | J26: =I25+J25 -> 190000 | K26: =IF(AND(B26>=日経平均!$C$2,B26<日経平均!$D$3),J26,NA()) -> 190000 | L26: =IF(AND(B26>=日経平均!$C$2,B26<=日経平均!$D$3),F26,0) -> 0.84311558 | M26: =L26+M25 -> 12.560911 | N26: =IF(AND(B26>=日経平均!$C$2,B26<日経平均!$D$3),M26,0) -> 12.560911 | O26: =IF(C26*N26=0,NA(),C26*N26) -> 148982.08 | P26: =IF(D26=$P$6,N26,"") | Q26: =IF(D26=$Q$6,C26,"")
B27: 37104 | C27: 10713.51 | D27: =TEXT(B27,"yyy/m") -> 2001/8 | E27: =E26 -> 10000 | F27: =E27/C27 -> 0.93340091 | G27: =TEXT($C$2,"yyyy/mm") -> 2000/01 | H27: =TEXT($N$6,"yyyy/mm") -> 2023/06 | I27: =IF(AND(B27>=日経平均!$C$2,B27<日経平均!$D$3),E27,0) -> 10000 | J27: =I26+J26 -> 200000 | K27: =IF(AND(B27>=日経平均!$C$2,B27<日経平均!$D$3),J27,NA()) -> 200000 | L27: =IF(AND(B27>=日経平均!$C$2,B27<=日経平均!$D$3),F27,0) -> 0.93340091 | M27: =IFERROR(L27+M26,"") -> 13.494312 | N27: =IF(AND(B27>=日経平均!$C$2,B27<日経平均!$D$3),M27,0) -> 13.494312 | O27: =IF(C27*N27=0,NA(),C27*N27) -> 144571.45 | P27: =IF(D27=$P$6,N27,"") | Q27: =IF(D27=$Q$6,C27,"")
B28: 37135 | C28: 9774.68 | D28: =TEXT(B28,"yyy/m") -> 2001/9 | E28: =E27 -> 10000 | F28: =E28/C28 -> 1.0230514 | G28: =TEXT($C$2,"yyyy/mm") -> 2000/01 | H28: =TEXT($N$6,"yyyy/mm") -> 2023/06 | I28: =IF(AND(B28>=日経平均!$C$2,B28<日経平均!$D$3),E28,0) -> 10000 | J28: =I27+J27 -> 210000 | K28: =IF(AND(B28>=日経平均!$C$2,B28<日経平均!$D$3),J28,NA()) -> 210000 | L28: =IF(AND(B28>=日経平均!$C$2,B28<=日経平均!$D$3),F28,0) -> 1.0230514 | M28: =L28+M27 -> 14.517364 | N28: =IF(AND(B28>=日経平均!$C$2,B28<日経平均!$D$3),M28,0) -> 14.517364 | O28: =IF(C28*N28=0,NA(),C28*N28) -> 141902.58 | P28: =IF(D28=$P$6,N28,"") | Q28: =IF(D28=$Q$6,C28,"")
B29: 37165 | C29: 10366.34 | D29: =TEXT(B29,"yyy/m") -> 2001/10 | E29: =E28 -> 10000 | F29: =E29/C29 -> 0.96466062 | G29: =TEXT($C$2,"yyyy/mm") -> 2000/01 | H29: =TEXT($N$6,"yyyy/mm") -> 2023/06 | I29: =IF(AND(B29>=日経平均!$C$2,B29<日経平均!$D$3),E29,0) -> 10000 | J29: =I28+J28 -> 220000 | K29: =IF(AND(B29>=日経平均!$C$2,B29<日経平均!$D$3),J29,NA()) -> 220000 | L29: =IF(AND(B29>=日経平均!$C$2,B29<=日経平均!$D$3),F29,0) -> 0.96466062 | M29: =L29+M28 -> 15.482024 | N29: =IF(AND(B29>=日経平均!$C$2,B29<日経平均!$D$3),M29,0) -> 15.482024 | O29: =IF(C29*N29=0,NA(),C29*N29) -> 160491.93 | P29: =IF(D29=$P$6,N29,"") | Q29: =IF(D29=$Q$6,C29,"")
B30: 37196 | C30: 10697.44 | D30: =TEXT(B30,"yyy/m") -> 2001/11 | E30: =E29 -> 10000 | F30: =E30/C30 -> 0.93480309 | G30: =TEXT($C$2,"yyyy/mm") -> 2000/01 | H30: =TEXT($N$6,"yyyy/mm") -> 2023/06 | I30: =IF(AND(B30>=日経平均!$C$2,B30<日経平均!$D$3),E30,0) -> 10000 | J30: =I29+J29 -> 230000 | K30: =IF(AND(B30>=日経平均!$C$2,B30<日経平均!$D$3),J30,NA()) -> 230000 | L30: =IF(AND(B30>=日経平均!$C$2,B30<=日経平均!$D$3),F30,0) -> 0.93480309 | M30: =IFERROR(L30+M29,"") -> 16.416827 | N30: =IF(AND(B30>=日経平均!$C$2,B30<日経平均!$D$3),M30,0) -> 16.416827 | O30: =IF(C30*N30=0,NA(),C30*N30) -> 175618.03 | P30: =IF(D30=$P$6,N30,"") | Q30: =IF(D30=$Q$6,C30,"")
B31: 37226 | C31: 10542.62 | D31: =TEXT(B31,"yyy/m") -> 2001/12 | E31: =E30 -> 10000 | F31: =E31/C31 -> 0.94853082 | G31: =TEXT($C$2,"yyyy/mm") -> 2000/01 | H31: =TEXT($N$6,"yyyy/mm") -> 2023/06 | I31: =IF(AND(B31>=日経平均!$C$2,B31<日経平均!$D$3),E31,0) -> 10000 | J31: =I30+J30 -> 240000 | K31: =IF(AND(B31>=日経平均!$C$2,B31<日経平均!$D$3),J31,NA()) -> 240000 | L31: =IF(AND(B31>=日経平均!$C$2,B31<=日経平均!$D$3),F31,0) -> 0.94853082 | M31: =L31+M30 -> 17.365358 | N31: =IF(AND(B31>=日経平均!$C$2,B31<日経平均!$D$3),M31,0) -> 17.365358 | O31: =IF(C31*N31=0,NA(),C31*N31) -> 183076.37 | P31: =IF(D31=$P$6,N31,"") | Q31: =IF(D31=$Q$6,C31,"")
B32: 37257 | C32: 9997.8 | D32: =TEXT(B32,"yyy/m") -> 2002/1 | E32: =E31 -> 10000 | F32: =E32/C32 -> 1.00022 | G32: =TEXT($C$2,"yyyy/mm") -> 2000/01 | H32: =TEXT($N$6,"yyyy/mm") -> 2023/06 | I32: =IF(AND(B32>=日経平均!$C$2,B32<日経平均!$D$3),E32,0) -> 10000 | J32: =I31+J31 -> 250000 | K32: =IF(AND(B32>=日経平均!$C$2,B32<日経平均!$D$3),J32,NA()) -> 250000 | L32: =IF(AND(B32>=日経平均!$C$2,B32<=日経平均!$D$3),F32,0) -> 1.00022 | M32: =IFERROR(L32+M31,"") -> 18.365578 | N32: =IF(AND(B32>=日経平均!$C$2,B32<日経平均!$D$3),M32,0) -> 18.365578 | O32: =IF(C32*N32=0,NA(),C32*N32) -> 183615.38 | P32: =IF(D32=$P$6,N32,"") | Q32: =IF(D32=$Q$6,C32,"")
B33: 37288 | C33: 10587.83 | D33: =TEXT(B33,"yyy/m") -> 2002/2 | E33: =E32 -> 10000 | F33: =E33/C33 -> 0.9444806 | G33: =TEXT($C$2,"yyyy/mm") -> 2000/01 | H33: =TEXT($N$6,"yyyy/mm") -> 2023/06 | I33: =IF(AND(B33>=日経平均!$C$2,B33<日経平均!$D$3),E33,0) -> 10000 | J33: =I32+J32 -> 260000 | K33: =IF(AND(B33>=日経平均!$C$2,B33<日経平均!$D$3),J33,NA()) -> 260000 | L33: =IF(AND(B33>=日経平均!$C$2,B33<=日経平均!$D$3),F33,0) -> 0.9444806 | M33: =L33+M32 -> 19.310059 | N33: =IF(AND(B33>=日経平均!$C$2,B33<日経平均!$D$3),M33,0) -> 19.310059 | O33: =IF(C33*N33=0,NA(),C33*N33) -> 204451.62 | P33: =IF(D33=$P$6,N33,"") | Q33: =IF(D33=$Q$6,C33,"")
B34: 37316 | C34: 11024.94 | D34: =TEXT(B34,"yyy/m") -> 2002/3 | E34: =E33 -> 10000 | F34: =E34/C34 -> 0.90703441 | G34: =TEXT($C$2,"yyyy/mm") -> 2000/01 | H34: =TEXT($N$6,"yyyy/mm") -> 2023/06 | I34: =IF(AND(B34>=日経平均!$C$2,B34<日経平均!$D$3),E34,0) -> 10000 | J34: =I33+J33 -> 270000 | K34: =IF(AND(B34>=日経平均!$C$2,B34<日経平均!$D$3),J34,NA()) -> 270000 | L34: =IF(AND(B34>=日経平均!$C$2,B34<=日経平均!$D$3),F34,0) -> 0.90703441 | M34: =IFERROR(L34+M33,"") -> 20.217093 | N34: =IF(AND(B34>=日経平均!$C$2,B34<日経平均!$D$3),M34,0) -> 20.217093 | O34: =IF(C34*N34=0,NA(),C34*N34) -> 222892.24 | P34: =IF(D34=$P$6,N34,"") | Q34: =IF(D34=$Q$6,C34,"")
B35: 37347 | C35: 11492.54 | D35: =TEXT(B35,"yyy/m") -> 2002/4 | E35: =E34 -> 10000 | F35: =E35/C35 -> 0.87012967 | G35: =TEXT($C$2,"yyyy/mm") -> 2000/01 | H35: =TEXT($N$6,"yyyy/mm") -> 2023/06 | I35: =IF(AND(B35>=日経平均!$C$2,B35<日経平均!$D$3),E35,0) -> 10000 | J35: =I34+J34 -> 280000 | K35: =IF(AND(B35>=日経平均!$C$2,B35<日経平均!$D$3),J35,NA()) -> 280000 | L35: =IF(AND(B35>=日経平均!$C$2,B35<=日経平均!$D$3),F35,0) -> 0.87012967 | M35: =L35+M34 -> 21.087223 | N35: =IF(AND(B35>=日経平均!$C$2,B35<日経平均!$D$3),M35,0) -> 21.087223 | O35: =IF(C35*N35=0,NA(),C35*N35) -> 242345.75 | P35: =IF(D35=$P$6,N35,"") | Q35: =IF(D35=$Q$6,C35,"")
B36: 37377 | C36: 11763.7 | D36: =TEXT(B36,"yyy/m") -> 2002/5 | E36: =E35 -> 10000 | F36: =E36/C36 -> 0.85007268 | G36: =TEXT($C$2,"yyyy/mm") -> 2000/01 | H36: =TEXT($N$6,"yyyy/mm") -> 2023/06 | I36: =IF(AND(B36>=日経平均!$C$2,B36<日経平均!$D$3),E36,0) -> 10000 | J36: =I35+J35 -> 290000 | K36: =IF(AND(B36>=日経平均!$C$2,B36<日経平均!$D$3),J36,NA()) -> 290000 | L36: =IF(AND(B36>=日経平均!$C$2,B36<=日経平均!$D$3),F36,0) -> 0.85007268 | M36: =IFERROR(L36+M35,"") -> 21.937296 | N36: =IF(AND(B36>=日経平均!$C$2,B36<日経平均!$D$3),M36,0) -> 21.937296 | O36: =IF(C36*N36=0,NA(),C36*N36) -> 258063.76 | P36: =IF(D36=$P$6,N36,"") | Q36: =IF(D36=$Q$6,C36,"")
B37: 37408 | C37: 10621.84 | D37: =TEXT(B37,"yyy/m") -> 2002/6 | E37: =E36 -> 10000 | F37: =E37/C37 -> 0.94145647 | G37: =TEXT($C$2,"yyyy/mm") -> 2000/01 | H37: =TEXT($N$6,"yyyy/mm") -> 2023/06 | I37: =IF(AND(B37>=日経平均!$C$2,B37<日経平均!$D$3),E37,0) -> 10000 | J37: =I36+J36 -> 300000 | K37: =IF(AND(B37>=日経平均!$C$2,B37<日経平均!$D$3),J37,NA()) -> 300000 | L37: =IF(AND(B37>=日経平均!$C$2,B37<=日経平均!$D$3),F37,0) -> 0.94145647 | M37: =L37+M36 -> 22.878752 | N37: =IF(AND(B37>=日経平均!$C$2,B37<日経平均!$D$3),M37,0) -> 22.878752 | O37: =IF(C37*N37=0,NA(),C37*N37) -> 243014.44 | P37: =IF(D37=$P$6,N37,"") | Q37: =IF(D37=$Q$6,C37,"")
B38: 37438 | C38: 9877.94 | D38: =TEXT(B38,"yyy/m") -> 2002/7 | E38: =E37 -> 10000 | F38: =E38/C38 -> 1.0123568 | G38: =TEXT($C$2,"yyyy/mm") -> 2000/01 | H38: =TEXT($N$6,"yyyy/mm") -> 2023/06 | I38: =IF(AND(B38>=日経平均!$C$2,B38<日経平均!$D$3),E38,0) -> 10000 | J38: =I37+J37 -> 310000 | K38: =IF(AND(B38>=日経平均!$C$2,B38<日経平均!$D$3),J38,NA()) -> 310000 | L38: =IF(AND(B38>=日経平均!$C$2,B38<=日経平均!$D$3),F38,0) -> 1.0123568 | M38: =IFERROR(L38+M37,"") -> 23.891109 | N38: =IF(AND(B38>=日経平均!$C$2,B38<日経平均!$D$3),M38,0) -> 23.891109 | O38: =IF(C38*N38=0,NA(),C38*N38) -> 235994.94 | P38: =IF(D38=$P$6,N38,"") | Q38: =IF(D38=$Q$6,C38,"")
B39: 37469 | C39: 9619.3 | D39: =TEXT(B39,"yyy/m") -> 2002/8 | E39: =E38 -> 10000 | F39: =E39/C39 -> 1.0395767 | G39: =TEXT($C$2,"yyyy/mm") -> 2000/01 | H39: =TEXT($N$6,"yyyy/mm") -> 2023/06 | I39: =IF(AND(B39>=日経平均!$C$2,B39<日経平均!$D$3),E39,0) -> 10000 | J39: =I38+J38 -> 320000 | K39: =IF(AND(B39>=日経平均!$C$2,B39<日経平均!$D$3),J39,NA()) -> 320000 | L39: =IF(AND(B39>=日経平均!$C$2,B39<=日経平均!$D$3),F39,0) -> 1.0395767 | M39: =L39+M38 -> 24.930686 | N39: =IF(AND(B39>=日経平均!$C$2,B39<日経平均!$D$3),M39,0) -> 24.930686 | O39: =IF(C39*N39=0,NA(),C39*N39) -> 239815.74 | P39: =IF(D39=$P$6,N39,"") | Q39: =IF(D39=$Q$6,C39,"")
B40: 37500 | C40: 9383.29 | D40: =TEXT(B40,"yyy/m") -> 2002/9 | E40: =E39 -> 10000 | F40: =E40/C40 -> 1.0657243 | G40: =TEXT($C$2,"yyyy/mm") -> 2000/01 | H40: =TEXT($N$6,"yyyy/mm") -> 2023/06 | I40: =IF(AND(B40>=日経平均!$C$2,B40<日経平均!$D$3),E40,0) -> 10000 | J40: =I39+J39 -> 330000 | K40: =IF(AND(B40>=日経平均!$C$2,B40<日経平均!$D$3),J40,NA()) -> 330000 | L40: =IF(AND(B40>=日経平均!$C$2,B40<=日経平均!$D$3),F40,0) -> 1.0657243 | M40: =L40+M39 -> 25.99641 | N40: =IF(AND(B40>=日経平均!$C$2,B40<日経平均!$D$3),M40,0) -> 25.99641 | O40: =IF(C40*N40=0,NA(),C40*N40) -> 243931.85 | P40: =IF(D40=$P$6,N40,"") | Q40: =IF(D40=$Q$6,C40,"")
B41: 37530 | C41: 8640.48 | D41: =TEXT(B41,"yyy/m") -> 2002/10 | E41: =E40 -> 10000 | F41: =E41/C41 -> 1.1573431 | G41: =TEXT($C$2,"yyyy/mm") -> 2000/01 | H41: =TEXT($N$6,"yyyy/mm") -> 2023/06 | I41: =IF(AND(B41>=日経平均!$C$2,B41<日経平均!$D$3),E41,0) -> 10000 | J41: =I40+J40 -> 340000 | K41: =IF(AND(B41>=日経平均!$C$2,B41<日経平均!$D$3),J41,NA()) -> 340000 | L41: =IF(AND(B41>=日経平均!$C$2,B41<=日経平均!$D$3),F41,0) -> 1.1573431 | M41: =IFERROR(L41+M40,"") -> 27.153753 | N41: =IF(AND(B41>=日経平均!$C$2,B41<日経平均!$D$3),M41,0) -> 27.153753 | O41: =IF(C41*N41=0,NA(),C41*N41) -> 234621.46 | P41: =IF(D41=$P$6,N41,"") | Q41: =IF(D41=$Q$6,C41,"")
...

Sheet 複利（計算）
D2: 年利 | E2: =複利!C2 -> 5 | F2: %
D3: 毎月積立額 | E3: =複利!C3 -> 10000 | F3: 円
D4: 年間積立額 | E4: =複利!C4 -> 120000 | F4: 円
B7: 月数 | D7: 積立額合計 | E7: 利率 | F7: 複利
F8: 元利合計 | G8: 利息
B9: 1 | C9: =E3 -> 10000 | D9: =C9*12*B9 -> 120000 | E9: =E2/100 -> 0.05 | F9: =FV(E9/12,B9*12,-C9,0,0) -> 122788.55 | G9: =F9-D9 -> 2788.5549
B10: 2 | C10: =C9 -> 10000 | D10: =C10*12*B10 -> 240000 | E10: =E9 -> 0.05 | F10: =FV(E10/12,B10*12,-C10,0,0) -> 251859.21 | G10: =F10-D10 -> 11859.205
B11: 3 | C11: =C10 -> 10000 | D11: =C11*12*B11 -> 360000 | E11: =E10 -> 0.05 | F11: =FV(E11/12,B11*12,-C11,0,0) -> 387533.36 | G11: =F11-D11 -> 27533.355
B12: 4 | C12: =C11 -> 10000 | D12: =C12*12*B12 -> 480000 | E12: =E11 -> 0.05 | F12: =FV(E12/12,B12*12,-C12,0,0) -> 530148.85 | G12: =F12-D12 -> 50148.852
B13: 5 | C13: =C12 -> 10000 | D13: =C13*12*B13 -> 600000 | E13: =E12 -> 0.05 | F13: =FV(E13/12,B13*12,-C13,0,0) -> 680060.83 | G13: =F13-D13 -> 80060.828
B14: 6 | C14: =C13 -> 10000 | D14: =C14*12*B14 -> 720000 | E14: =E13 -> 0.05 | F14: =FV(E14/12,B14*12,-C14,0,0) -> 837642.59 | G14: =F14-D14 -> 117642.59
B15: 7 | C15: =C14 -> 10000 | D15: =C15*12*B15 -> 840000 | E15: =E14 -> 0.05 | F15: =FV(E15/12,B15*12,-C15,0,0) -> 1003286.5 | G15: =F15-D15 -> 163286.53
B16: 8 | C16: =C15 -> 10000 | D16: =C16*12*B16 -> 960000 | E16: =E15 -> 0.05 | F16: =FV(E16/12,B16*12,-C16,0,0) -> 1177405.1 | G16: =F16-D16 -> 217405.12
B17: 9 | C17: =C16 -> 10000 | D17: =C17*12*B17 -> 1080000 | E17: =E16 -> 0.05 | F17: =FV(E17/12,B17*12,-C17,0,0) -> 1360432 | G17: =F17-D17 -> 280431.96
B18: 10 | C18: =C17 -> 10000 | D18: =C18*12*B18 -> 1200000 | E18: =E17 -> 0.05 | F18: =FV(E18/12,B18*12,-C18,0,0) -> 1552822.8 | G18: =F18-D18 -> 352822.79
B19: 11 | C19: =C18 -> 10000 | D19: =C19*12*B19 -> 1320000 | E19: =E18 -> 0.05 | F19: =FV(E19/12,B19*12,-C19,0,0) -> 1755056.7 | G19: =F19-D19 -> 435056.71
B20: 12 | C20: =C19 -> 10000 | D20: =C20*12*B20 -> 1440000 | E20: =E19 -> 0.05 | F20: =FV(E20/12,B20*12,-C20,0,0) -> 1967637.3 | G20: =F20-D20 -> 527637.3
B21: 13 | C21: =C20 -> 10000 | D21: =C21*12*B21 -> 1560000 | E21: =E20 -> 0.05 | F21: =FV(E21/12,B21*12,-C21,0,0) -> 2191093.9 | G21: =F21-D21 -> 631093.91
... B38: 30 | C38: =C37 -> 10000 | D38: =C38*12*B38 -> 3600000 | E38: =E37 -> 0.05 | F38: =FV(E38/12,B38*12,-C38,0,0) -> 8322586.4 | G38: =F38-D38 -> 4722586.4
